BEGIN:VCALENDAR
VERSION:2.0
PRODID:-//FilCom San Lorenzo - ECPv6.15.20//NONSGML v1.0//EN
CALSCALE:GREGORIAN
METHOD:PUBLISH
X-ORIGINAL-URL:https://filcomsanlorenzomilano.com
X-WR-CALDESC:Events for FilCom San Lorenzo
REFRESH-INTERVAL;VALUE=DURATION:PT1H
X-Robots-Tag:noindex
X-PUBLISHED-TTL:PT1H
BEGIN:VTIMEZONE
TZID:Europe/Rome
BEGIN:DAYLIGHT
TZOFFSETFROM:+0100
TZOFFSETTO:+0200
TZNAME:CEST
DTSTART:20210328T010000
END:DAYLIGHT
BEGIN:STANDARD
TZOFFSETFROM:+0200
TZOFFSETTO:+0100
TZNAME:CET
DTSTART:20211031T010000
END:STANDARD
BEGIN:DAYLIGHT
TZOFFSETFROM:+0100
TZOFFSETTO:+0200
TZNAME:CEST
DTSTART:20220327T010000
END:DAYLIGHT
BEGIN:STANDARD
TZOFFSETFROM:+0200
TZOFFSETTO:+0100
TZNAME:CET
DTSTART:20221030T010000
END:STANDARD
BEGIN:DAYLIGHT
TZOFFSETFROM:+0100
TZOFFSETTO:+0200
TZNAME:CEST
DTSTART:20230326T010000
END:DAYLIGHT
BEGIN:STANDARD
TZOFFSETFROM:+0200
TZOFFSETTO:+0100
TZNAME:CET
DTSTART:20231029T010000
END:STANDARD
END:VTIMEZONE
BEGIN:VEVENT
DTSTART;TZID=Europe/Rome:20220623T220000
DTEND;TZID=Europe/Rome:20220624T003000
DTSTAMP:20260424T060122
CREATED:20220622T051220Z
LAST-MODIFIED:20220622T051311Z
UID:10014650-1656021600-1656030600@filcomsanlorenzomilano.com
SUMMARY:Fiesta Señor 2023 ZOOM Meeting
DESCRIPTION:via ZOOM
URL:https://filcomsanlorenzomilano.com/event/fiesta-senor-2023-meeting/
LOCATION:MI
CATEGORIES:European Fiesta Señor 2023,Meeting / Planning
END:VEVENT
BEGIN:VEVENT
DTSTART;TZID=Europe/Rome:20220624T100000
DTEND;TZID=Europe/Rome:20220624T190000
DTSTAMP:20260424T060122
CREATED:20220107T054911Z
LAST-MODIFIED:20220107T054911Z
UID:10014106-1656064800-1656097200@filcomsanlorenzomilano.com
SUMMARY:Feast of the Sacred Heart of Jesus
DESCRIPTION:
URL:https://filcomsanlorenzomilano.com/event/feast-of-the-sacred-heart-of-jesus/
LOCATION:MI
END:VEVENT
BEGIN:VEVENT
DTSTART;TZID=Europe/Rome:20220624T180000
DTEND;TZID=Europe/Rome:20220624T200000
DTSTAMP:20260424T060122
CREATED:20220515T065624Z
LAST-MODIFIED:20220610T142234Z
UID:10014616-1656093600-1656100800@filcomsanlorenzomilano.com
SUMMARY:Seminar OSMILLO-MAGBOO
DESCRIPTION:John Menard Valencia OSMILLO – Arlyn MAGBOO
URL:https://filcomsanlorenzomilano.com/event/seminar-osmillo-magboo-2022-06-24/
LOCATION:Parrocchia S. Domenico Savio\, Via Rovigno\, 11/A\, Milano\, Milano\, 20125
CATEGORIES:Seminar
END:VEVENT
BEGIN:VEVENT
DTSTART;TZID=Europe/Rome:20220624T210000
DTEND;TZID=Europe/Rome:20220624T220000
DTSTAMP:20260424T060122
CREATED:20220623T115246Z
LAST-MODIFIED:20220623T115246Z
UID:10014655-1656104400-1656108000@filcomsanlorenzomilano.com
SUMMARY:House Blessing Daniele Marasigan Hernandez
DESCRIPTION:Daniele Marasigan Hernandez \nCit 235 | appena entri sa cancello è subito a destra la prima porta
URL:https://filcomsanlorenzomilano.com/event/house-blessing-daniele-marasigan-hernandez/
LOCATION:Daniele Marasigan Hernandez\, Via Ruggero Bonghi\, 4\, Milano\, Mi\, 20141\, Italy
CATEGORIES:Blessing
END:VEVENT
END:VCALENDAR