BEGIN:VCALENDAR
VERSION:2.0
PRODID:-//FilCom San Lorenzo - ECPv6.15.20//NONSGML v1.0//EN
CALSCALE:GREGORIAN
METHOD:PUBLISH
X-WR-CALNAME:FilCom San Lorenzo
X-ORIGINAL-URL:https://filcomsanlorenzomilano.com
X-WR-CALDESC:Events for FilCom San Lorenzo
REFRESH-INTERVAL;VALUE=DURATION:PT1H
X-Robots-Tag:noindex
X-PUBLISHED-TTL:PT1H
BEGIN:VTIMEZONE
TZID:Europe/Rome
BEGIN:DAYLIGHT
TZOFFSETFROM:+0100
TZOFFSETTO:+0200
TZNAME:CEST
DTSTART:20210328T010000
END:DAYLIGHT
BEGIN:STANDARD
TZOFFSETFROM:+0200
TZOFFSETTO:+0100
TZNAME:CET
DTSTART:20211031T010000
END:STANDARD
BEGIN:DAYLIGHT
TZOFFSETFROM:+0100
TZOFFSETTO:+0200
TZNAME:CEST
DTSTART:20220327T010000
END:DAYLIGHT
BEGIN:STANDARD
TZOFFSETFROM:+0200
TZOFFSETTO:+0100
TZNAME:CET
DTSTART:20221030T010000
END:STANDARD
BEGIN:DAYLIGHT
TZOFFSETFROM:+0100
TZOFFSETTO:+0200
TZNAME:CEST
DTSTART:20230326T010000
END:DAYLIGHT
BEGIN:STANDARD
TZOFFSETFROM:+0200
TZOFFSETTO:+0100
TZNAME:CET
DTSTART:20231029T010000
END:STANDARD
END:VTIMEZONE
BEGIN:VEVENT
DTSTART;VALUE=DATE:20220717
DTEND;VALUE=DATE:20220719
DTSTAMP:20260425T154210
CREATED:20220108T065745Z
LAST-MODIFIED:20220108T065745Z
UID:10013986-1658023200-1658109599@filcomsanlorenzomilano.com
SUMMARY:16th Sunday in Ordinary Time
DESCRIPTION:
URL:https://filcomsanlorenzomilano.com/event/16th-sunday-in-ordinary-time/
LOCATION:Milano
CATEGORIES:Liturgy Calendar
END:VEVENT
BEGIN:VEVENT
DTSTART;TZID=Europe/Rome:20220717T130000
DTEND;TZID=Europe/Rome:20220717T143000
DTSTAMP:20260425T154210
CREATED:20220429T141239Z
LAST-MODIFIED:20220508T164002Z
UID:10014594-1658062800-1658068200@filcomsanlorenzomilano.com
SUMMARY:Baptism 1-JARDINEZ
DESCRIPTION:Baptism 1-Jaisen Bhoss JARDINEZ
URL:https://filcomsanlorenzomilano.com/event/baptism-1-confirmed-4/
LOCATION:Parrocchia S. Domenico Savio\, Via Rovigno\, 11/A\, Milano\, Milano\, 20125
CATEGORIES:Baptism,Mass
END:VEVENT
BEGIN:VEVENT
DTSTART;TZID=Europe/Rome:20220717T150000
DTEND;TZID=Europe/Rome:20220717T160000
DTSTAMP:20260425T154210
CREATED:20220125T200213Z
LAST-MODIFIED:20220802T073243Z
UID:10014282-1658070000-1658073600@filcomsanlorenzomilano.com
SUMMARY:Mass FCGS
DESCRIPTION:Mass Filipino Community of Gesù Salvatore (Milano 3)
URL:https://filcomsanlorenzomilano.com/event/mass-fcgs/2022-07-17/
LOCATION:Parrocchia Gesù Salvatore\, Via Alessandro Manzoni\, 1\, Basiglio\, Milano\, 20080\, Italy
CATEGORIES:Mass
END:VEVENT
BEGIN:VEVENT
DTSTART;TZID=Europe/Rome:20220717T160000
DTEND;TZID=Europe/Rome:20220717T170000
DTSTAMP:20260425T154210
CREATED:20220106T204554Z
LAST-MODIFIED:20230111T214233Z
UID:10014015-1658073600-1658077200@filcomsanlorenzomilano.com
SUMMARY:Mass FCSL
DESCRIPTION:Regular Sunday Mass
URL:https://filcomsanlorenzomilano.com/event/mass-fcsl/2022-07-17/
LOCATION:Basilica di San Lorenzo Maggiore\, Corso di Porta Ticinese\, 39\, Milano\, Milano\, 20123\, Italy
CATEGORIES:Mass
END:VEVENT
END:VCALENDAR