BEGIN:VCALENDAR
VERSION:2.0
PRODID:-//FilCom San Lorenzo - ECPv6.15.20//NONSGML v1.0//EN
CALSCALE:GREGORIAN
METHOD:PUBLISH
X-WR-CALNAME:FilCom San Lorenzo
X-ORIGINAL-URL:https://filcomsanlorenzomilano.com
X-WR-CALDESC:Events for FilCom San Lorenzo
REFRESH-INTERVAL;VALUE=DURATION:PT1H
X-Robots-Tag:noindex
X-PUBLISHED-TTL:PT1H
BEGIN:VTIMEZONE
TZID:Europe/Rome
BEGIN:DAYLIGHT
TZOFFSETFROM:+0100
TZOFFSETTO:+0200
TZNAME:CEST
DTSTART:20210328T010000
END:DAYLIGHT
BEGIN:STANDARD
TZOFFSETFROM:+0200
TZOFFSETTO:+0100
TZNAME:CET
DTSTART:20211031T010000
END:STANDARD
BEGIN:DAYLIGHT
TZOFFSETFROM:+0100
TZOFFSETTO:+0200
TZNAME:CEST
DTSTART:20220327T010000
END:DAYLIGHT
BEGIN:STANDARD
TZOFFSETFROM:+0200
TZOFFSETTO:+0100
TZNAME:CET
DTSTART:20221030T010000
END:STANDARD
BEGIN:DAYLIGHT
TZOFFSETFROM:+0100
TZOFFSETTO:+0200
TZNAME:CEST
DTSTART:20230326T010000
END:DAYLIGHT
BEGIN:STANDARD
TZOFFSETFROM:+0200
TZOFFSETTO:+0100
TZNAME:CET
DTSTART:20231029T010000
END:STANDARD
END:VTIMEZONE
BEGIN:VEVENT
DTSTART;VALUE=DATE:20220807
DTEND;VALUE=DATE:20220809
DTSTAMP:20260419T154655
CREATED:20220108T065941Z
LAST-MODIFIED:20220108T065941Z
UID:10014194-1659837600-1659923999@filcomsanlorenzomilano.com
SUMMARY:19th Sunday in Ordinary Time
DESCRIPTION:
URL:https://filcomsanlorenzomilano.com/event/19th-sunday-in-ordinary-time/
LOCATION:MI
CATEGORIES:Liturgy Calendar
END:VEVENT
BEGIN:VEVENT
DTSTART;TZID=Europe/Rome:20220807T130000
DTEND;TZID=Europe/Rome:20220807T143000
DTSTAMP:20260419T154655
CREATED:20220601T051925Z
LAST-MODIFIED:20220720T171843Z
UID:10014620-1659877200-1659882600@filcomsanlorenzomilano.com
SUMMARY:Baptism 1-DE LA PENA\, 2-QUIBALLO
DESCRIPTION:1-Jade Arabella DE LA PENA\, 2-Jin Axel QUIBALLO
URL:https://filcomsanlorenzomilano.com/event/baptism-1-2/
LOCATION:Parrocchia S. Domenico Savio\, Via Rovigno\, 11/A\, Milano\, Milano\, 20125
CATEGORIES:Baptism,Mass
END:VEVENT
BEGIN:VEVENT
DTSTART;TZID=Europe/Rome:20220807T143000
DTEND;TZID=Europe/Rome:20220807T170000
DTSTAMP:20260419T154655
CREATED:20220802T073912Z
LAST-MODIFIED:20220802T073912Z
UID:10014668-1659882600-1659891600@filcomsanlorenzomilano.com
SUMMARY:House Blessing ABANADOR
DESCRIPTION:Emie – Randy Abanador 3802064809 \nHouse at Pieve Emanuele \nto be fetched at Turro 12:20 pm \nto be brought to SanLo after blessing
URL:https://filcomsanlorenzomilano.com/event/house-blessing-abanador/
LOCATION:MI
CATEGORIES:Blessing
END:VEVENT
BEGIN:VEVENT
DTSTART;TZID=Europe/Rome:20220807T150000
DTEND;TZID=Europe/Rome:20220807T160000
DTSTAMP:20260419T154655
CREATED:20220125T200213Z
LAST-MODIFIED:20220802T073243Z
UID:10014284-1659884400-1659888000@filcomsanlorenzomilano.com
SUMMARY:Mass FCGS
DESCRIPTION:Mass Filipino Community of Gesù Salvatore (Milano 3)
URL:https://filcomsanlorenzomilano.com/event/mass-fcgs/2022-08-07/
LOCATION:Parrocchia Gesù Salvatore\, Via Alessandro Manzoni\, 1\, Basiglio\, Milano\, 20080\, Italy
CATEGORIES:Mass
END:VEVENT
BEGIN:VEVENT
DTSTART;TZID=Europe/Rome:20220807T160000
DTEND;TZID=Europe/Rome:20220807T170000
DTSTAMP:20260419T154655
CREATED:20220106T204554Z
LAST-MODIFIED:20230111T214233Z
UID:10014017-1659888000-1659891600@filcomsanlorenzomilano.com
SUMMARY:Mass FCSL
DESCRIPTION:Regular Sunday Mass
URL:https://filcomsanlorenzomilano.com/event/mass-fcsl/2022-08-07/
LOCATION:Basilica di San Lorenzo Maggiore\, Corso di Porta Ticinese\, 39\, Milano\, Milano\, 20123\, Italy
CATEGORIES:Mass
END:VEVENT
END:VCALENDAR