BEGIN:VCALENDAR
VERSION:2.0
PRODID:-//FilCom San Lorenzo - ECPv6.15.20//NONSGML v1.0//EN
CALSCALE:GREGORIAN
METHOD:PUBLISH
X-WR-CALNAME:FilCom San Lorenzo
X-ORIGINAL-URL:https://filcomsanlorenzomilano.com
X-WR-CALDESC:Events for FilCom San Lorenzo
REFRESH-INTERVAL;VALUE=DURATION:PT1H
X-Robots-Tag:noindex
X-PUBLISHED-TTL:PT1H
BEGIN:VTIMEZONE
TZID:Europe/Rome
BEGIN:DAYLIGHT
TZOFFSETFROM:+0100
TZOFFSETTO:+0200
TZNAME:CEST
DTSTART:20210328T010000
END:DAYLIGHT
BEGIN:STANDARD
TZOFFSETFROM:+0200
TZOFFSETTO:+0100
TZNAME:CET
DTSTART:20211031T010000
END:STANDARD
BEGIN:DAYLIGHT
TZOFFSETFROM:+0100
TZOFFSETTO:+0200
TZNAME:CEST
DTSTART:20220327T010000
END:DAYLIGHT
BEGIN:STANDARD
TZOFFSETFROM:+0200
TZOFFSETTO:+0100
TZNAME:CET
DTSTART:20221030T010000
END:STANDARD
BEGIN:DAYLIGHT
TZOFFSETFROM:+0100
TZOFFSETTO:+0200
TZNAME:CEST
DTSTART:20230326T010000
END:DAYLIGHT
BEGIN:STANDARD
TZOFFSETFROM:+0200
TZOFFSETTO:+0100
TZNAME:CET
DTSTART:20231029T010000
END:STANDARD
END:VTIMEZONE
BEGIN:VEVENT
DTSTART;TZID=Europe/Rome:20220811T110000
DTEND;TZID=Europe/Rome:20220811T140000
DTSTAMP:20260419T154547
CREATED:20220802T073103Z
LAST-MODIFIED:20220807T062129Z
UID:10014665-1660215600-1660226400@filcomsanlorenzomilano.com
SUMMARY:Marriage Counseling Jeff-Jamaica
DESCRIPTION:Jeff 3201177070
URL:https://filcomsanlorenzomilano.com/event/marriage-counseling-jeff-___/2022-08-11/
LOCATION:Parrocchia S. Domenico Savio\, Via Rovigno\, 11/A\, Milano\, Milano\, 20125
CATEGORIES:Marriage Counseling
END:VEVENT
END:VCALENDAR