BEGIN:VCALENDAR
VERSION:2.0
PRODID:-//FilCom San Lorenzo - ECPv6.15.20//NONSGML v1.0//EN
CALSCALE:GREGORIAN
METHOD:PUBLISH
X-WR-CALNAME:FilCom San Lorenzo
X-ORIGINAL-URL:https://filcomsanlorenzomilano.com
X-WR-CALDESC:Events for FilCom San Lorenzo
REFRESH-INTERVAL;VALUE=DURATION:PT1H
X-Robots-Tag:noindex
X-PUBLISHED-TTL:PT1H
BEGIN:VTIMEZONE
TZID:Europe/Rome
BEGIN:DAYLIGHT
TZOFFSETFROM:+0100
TZOFFSETTO:+0200
TZNAME:CEST
DTSTART:20210328T010000
END:DAYLIGHT
BEGIN:STANDARD
TZOFFSETFROM:+0200
TZOFFSETTO:+0100
TZNAME:CET
DTSTART:20211031T010000
END:STANDARD
BEGIN:DAYLIGHT
TZOFFSETFROM:+0100
TZOFFSETTO:+0200
TZNAME:CEST
DTSTART:20220327T010000
END:DAYLIGHT
BEGIN:STANDARD
TZOFFSETFROM:+0200
TZOFFSETTO:+0100
TZNAME:CET
DTSTART:20221030T010000
END:STANDARD
BEGIN:DAYLIGHT
TZOFFSETFROM:+0100
TZOFFSETTO:+0200
TZNAME:CEST
DTSTART:20230326T010000
END:DAYLIGHT
BEGIN:STANDARD
TZOFFSETFROM:+0200
TZOFFSETTO:+0100
TZNAME:CET
DTSTART:20231029T010000
END:STANDARD
END:VTIMEZONE
BEGIN:VEVENT
DTSTART;VALUE=DATE:20220814
DTEND;VALUE=DATE:20220816
DTSTAMP:20260419T154635
CREATED:20220108T070159Z
LAST-MODIFIED:20220108T070159Z
UID:10014198-1660442400-1660528799@filcomsanlorenzomilano.com
SUMMARY:20th Sunday in Ordinary Time
DESCRIPTION:
URL:https://filcomsanlorenzomilano.com/event/20th-sunday-in-ordinary-time/
LOCATION:MI
CATEGORIES:Liturgy Calendar
END:VEVENT
BEGIN:VEVENT
DTSTART;TZID=Europe/Rome:20220814T131500
DTEND;TZID=Europe/Rome:20220814T143000
DTSTAMP:20260419T154635
CREATED:20220701T115152Z
LAST-MODIFIED:20220701T115152Z
UID:10014252-1660482900-1660487400@filcomsanlorenzomilano.com
SUMMARY:Binyag 1-Confirmed
DESCRIPTION:c/o Emma Montillana
URL:https://filcomsanlorenzomilano.com/event/binyag-1-confirmed/
LOCATION:Parrocchia S. Domenico Savio\, Via Rovigno\, 11/A\, Milano\, Milano\, 20125
CATEGORIES:Baptism
END:VEVENT
BEGIN:VEVENT
DTSTART;TZID=Europe/Rome:20220814T160000
DTEND;TZID=Europe/Rome:20220814T170000
DTSTAMP:20260419T154635
CREATED:20220106T204554Z
LAST-MODIFIED:20230111T214233Z
UID:10014018-1660492800-1660496400@filcomsanlorenzomilano.com
SUMMARY:Mass FCSL
DESCRIPTION:Regular Sunday Mass
URL:https://filcomsanlorenzomilano.com/event/mass-fcsl/2022-08-14/
LOCATION:Basilica di San Lorenzo Maggiore\, Corso di Porta Ticinese\, 39\, Milano\, Milano\, 20123\, Italy
CATEGORIES:Mass
END:VEVENT
END:VCALENDAR