BEGIN:VCALENDAR
VERSION:2.0
PRODID:-//FilCom San Lorenzo - ECPv6.15.20//NONSGML v1.0//EN
CALSCALE:GREGORIAN
METHOD:PUBLISH
X-WR-CALNAME:FilCom San Lorenzo
X-ORIGINAL-URL:https://filcomsanlorenzomilano.com
X-WR-CALDESC:Events for FilCom San Lorenzo
REFRESH-INTERVAL;VALUE=DURATION:PT1H
X-Robots-Tag:noindex
X-PUBLISHED-TTL:PT1H
BEGIN:VTIMEZONE
TZID:Europe/Rome
BEGIN:DAYLIGHT
TZOFFSETFROM:+0100
TZOFFSETTO:+0200
TZNAME:CEST
DTSTART:20210328T010000
END:DAYLIGHT
BEGIN:STANDARD
TZOFFSETFROM:+0200
TZOFFSETTO:+0100
TZNAME:CET
DTSTART:20211031T010000
END:STANDARD
BEGIN:DAYLIGHT
TZOFFSETFROM:+0100
TZOFFSETTO:+0200
TZNAME:CEST
DTSTART:20220327T010000
END:DAYLIGHT
BEGIN:STANDARD
TZOFFSETFROM:+0200
TZOFFSETTO:+0100
TZNAME:CET
DTSTART:20221030T010000
END:STANDARD
BEGIN:DAYLIGHT
TZOFFSETFROM:+0100
TZOFFSETTO:+0200
TZNAME:CEST
DTSTART:20230326T010000
END:DAYLIGHT
BEGIN:STANDARD
TZOFFSETFROM:+0200
TZOFFSETTO:+0100
TZNAME:CET
DTSTART:20231029T010000
END:STANDARD
END:VTIMEZONE
BEGIN:VEVENT
DTSTART;TZID=Europe/Rome:20220914T120000
DTEND;TZID=Europe/Rome:20220914T140000
DTSTAMP:20260423T112731
CREATED:20220905T173042Z
LAST-MODIFIED:20220905T173042Z
UID:10014706-1663156800-1663164000@filcomsanlorenzomilano.com
SUMMARY:Mass Babang-Luksa
DESCRIPTION:MMMP Member \nMass in the house  (Zona M3-Brenta) \nc/o Marina Bautista
URL:https://filcomsanlorenzomilano.com/event/mass-babang-luksa/
LOCATION:MI
CATEGORIES:Death Anniversary,Mass
END:VEVENT
BEGIN:VEVENT
DTSTART;TZID=Europe/Rome:20220914T180000
DTEND;TZID=Europe/Rome:20220914T193000
DTSTAMP:20260423T112731
CREATED:20220912T173240Z
LAST-MODIFIED:20220912T173240Z
UID:10014713-1663178400-1663183800@filcomsanlorenzomilano.com
SUMMARY:Vows GARCIA-PUNZALAN
DESCRIPTION:Arnold Lester GARCIA – Princess PUNZALAN \n 
URL:https://filcomsanlorenzomilano.com/event/vows-garcia-punzalan/
LOCATION:Parrocchia S. Domenico Savio\, Via Rovigno\, 11/A\, Milano\, Milano\, 20125
CATEGORIES:Interview,Seminar
END:VEVENT
END:VCALENDAR