BEGIN:VCALENDAR
VERSION:2.0
PRODID:-//FilCom San Lorenzo - ECPv6.15.20//NONSGML v1.0//EN
CALSCALE:GREGORIAN
METHOD:PUBLISH
X-WR-CALNAME:FilCom San Lorenzo
X-ORIGINAL-URL:https://filcomsanlorenzomilano.com
X-WR-CALDESC:Events for FilCom San Lorenzo
REFRESH-INTERVAL;VALUE=DURATION:PT1H
X-Robots-Tag:noindex
X-PUBLISHED-TTL:PT1H
BEGIN:VTIMEZONE
TZID:Europe/Rome
BEGIN:DAYLIGHT
TZOFFSETFROM:+0100
TZOFFSETTO:+0200
TZNAME:CEST
DTSTART:20220327T010000
END:DAYLIGHT
BEGIN:STANDARD
TZOFFSETFROM:+0200
TZOFFSETTO:+0100
TZNAME:CET
DTSTART:20221030T010000
END:STANDARD
BEGIN:DAYLIGHT
TZOFFSETFROM:+0100
TZOFFSETTO:+0200
TZNAME:CEST
DTSTART:20230326T010000
END:DAYLIGHT
BEGIN:STANDARD
TZOFFSETFROM:+0200
TZOFFSETTO:+0100
TZNAME:CET
DTSTART:20231029T010000
END:STANDARD
BEGIN:DAYLIGHT
TZOFFSETFROM:+0100
TZOFFSETTO:+0200
TZNAME:CEST
DTSTART:20240331T010000
END:DAYLIGHT
BEGIN:STANDARD
TZOFFSETFROM:+0200
TZOFFSETTO:+0100
TZNAME:CET
DTSTART:20241027T010000
END:STANDARD
END:VTIMEZONE
BEGIN:VEVENT
DTSTART;TZID=Europe/Rome:20230415T100000
DTEND;TZID=Europe/Rome:20230415T103000
DTSTAMP:20260419T154650
CREATED:20230223T081808Z
LAST-MODIFIED:20230312T061925Z
UID:10014880-1681552800-1681554600@filcomsanlorenzomilano.com
SUMMARY:Baptism 1-Himarawi FLORES\, 2-Noah CARVAJAL
DESCRIPTION:Magkapatid\, kaibigan ni delos Angeles \nIt is according to their (parents’) agreement that each child will be named according to each other’s family name. They are CONVIVENTI. \n1-Himawari FLORES \n2-Noah CARVAJAL
URL:https://filcomsanlorenzomilano.com/event/baptism-1-confirmed-2-confirmed/
LOCATION:Parrocchia S. Domenico Savio\, Via Rovigno\, 11/A\, Milano\, Milano\, 20125
CATEGORIES:Baptism
END:VEVENT
END:VCALENDAR