BEGIN:VCALENDAR
VERSION:2.0
PRODID:-//FilCom San Lorenzo - ECPv6.15.20//NONSGML v1.0//EN
CALSCALE:GREGORIAN
METHOD:PUBLISH
X-ORIGINAL-URL:https://filcomsanlorenzomilano.com
X-WR-CALDESC:Events for FilCom San Lorenzo
REFRESH-INTERVAL;VALUE=DURATION:PT1H
X-Robots-Tag:noindex
X-PUBLISHED-TTL:PT1H
BEGIN:VTIMEZONE
TZID:Europe/Rome
BEGIN:DAYLIGHT
TZOFFSETFROM:+0100
TZOFFSETTO:+0200
TZNAME:CEST
DTSTART:20240331T010000
END:DAYLIGHT
BEGIN:STANDARD
TZOFFSETFROM:+0200
TZOFFSETTO:+0100
TZNAME:CET
DTSTART:20241027T010000
END:STANDARD
BEGIN:DAYLIGHT
TZOFFSETFROM:+0100
TZOFFSETTO:+0200
TZNAME:CEST
DTSTART:20250330T010000
END:DAYLIGHT
BEGIN:STANDARD
TZOFFSETFROM:+0200
TZOFFSETTO:+0100
TZNAME:CET
DTSTART:20251026T010000
END:STANDARD
BEGIN:DAYLIGHT
TZOFFSETFROM:+0100
TZOFFSETTO:+0200
TZNAME:CEST
DTSTART:20260329T010000
END:DAYLIGHT
BEGIN:STANDARD
TZOFFSETFROM:+0200
TZOFFSETTO:+0100
TZNAME:CET
DTSTART:20261025T010000
END:STANDARD
END:VTIMEZONE
BEGIN:VEVENT
DTSTART;TZID=Europe/Rome:20250825T083000
DTEND;TZID=Europe/Rome:20250825T090000
DTSTAMP:20260422T140205
CREATED:20250724T163059Z
LAST-MODIFIED:20250724T163059Z
UID:10019551-1756110600-1756112400@filcomsanlorenzomilano.com
SUMMARY:Messa Parrocchiale
DESCRIPTION:Messa quotidiano
URL:https://filcomsanlorenzomilano.com/event/messa-parrocchiale/2025-08-25/
LOCATION:Parrocchia S. Domenico Savio\, Via Rovigno\, 11/A\, Milano\, Milano\, 20125
CATEGORIES:Mass
ATTACH;FMTTYPE=image/webp:https://filcomsanlorenzomilano.com/wp-content/uploads/2025/07/Par-San-Domenico-Savio.webp
END:VEVENT
BEGIN:VEVENT
DTSTART;TZID=Europe/Rome:20250825T090000
DTEND;TZID=Europe/Rome:20250825T120000
DTSTAMP:20260422T140205
CREATED:20250806T035401Z
LAST-MODIFIED:20250806T040103Z
UID:10019568-1756112400-1756123200@filcomsanlorenzomilano.com
SUMMARY:Assemblea di comunità
DESCRIPTION:presentazione del PIANO DI PROGRAMMAZIONE per l’anno pastorale 2025-26
URL:https://filcomsanlorenzomilano.com/event/assemblea-di-comunita/
LOCATION:Collegio Paolo VI\, Via Rovigno 11/a\, Milano\, MI\, 20125\, Italy
CATEGORIES:Meeting / Planning
ATTACH;FMTTYPE=image/webp:https://filcomsanlorenzomilano.com/wp-content/uploads/2025/05/SDB-SDS-Logo.webp
END:VEVENT
BEGIN:VEVENT
DTSTART;TZID=Europe/Rome:20250825T190000
DTEND;TZID=Europe/Rome:20250825T203000
DTSTAMP:20260422T140205
CREATED:20250822T124007Z
LAST-MODIFIED:20250822T124007Z
UID:10019631-1756148400-1756153800@filcomsanlorenzomilano.com
SUMMARY:Vows BORLADO - ILAGAN
DESCRIPTION:
URL:https://filcomsanlorenzomilano.com/event/vows-borlado-ilagan/
LOCATION:Parrocchia S. Domenico Savio\, Via Rovigno\, 11/A\, Milano\, Milano\, 20125
CATEGORIES:Istruttoria Matrimonio
ATTACH;FMTTYPE=image/webp:https://filcomsanlorenzomilano.com/wp-content/uploads/2025/04/Istruttoria-Matrimonio2.webp
END:VEVENT
END:VCALENDAR