BEGIN:VCALENDAR
VERSION:2.0
PRODID:-//FilCom San Lorenzo - ECPv6.15.20//NONSGML v1.0//EN
CALSCALE:GREGORIAN
METHOD:PUBLISH
X-ORIGINAL-URL:https://filcomsanlorenzomilano.com
X-WR-CALDESC:Events for FilCom San Lorenzo
REFRESH-INTERVAL;VALUE=DURATION:PT1H
X-Robots-Tag:noindex
X-PUBLISHED-TTL:PT1H
BEGIN:VTIMEZONE
TZID:Europe/Rome
BEGIN:DAYLIGHT
TZOFFSETFROM:+0100
TZOFFSETTO:+0200
TZNAME:CEST
DTSTART:20240331T010000
END:DAYLIGHT
BEGIN:STANDARD
TZOFFSETFROM:+0200
TZOFFSETTO:+0100
TZNAME:CET
DTSTART:20241027T010000
END:STANDARD
BEGIN:DAYLIGHT
TZOFFSETFROM:+0100
TZOFFSETTO:+0200
TZNAME:CEST
DTSTART:20250330T010000
END:DAYLIGHT
BEGIN:STANDARD
TZOFFSETFROM:+0200
TZOFFSETTO:+0100
TZNAME:CET
DTSTART:20251026T010000
END:STANDARD
BEGIN:DAYLIGHT
TZOFFSETFROM:+0100
TZOFFSETTO:+0200
TZNAME:CEST
DTSTART:20260329T010000
END:DAYLIGHT
BEGIN:STANDARD
TZOFFSETFROM:+0200
TZOFFSETTO:+0100
TZNAME:CET
DTSTART:20261025T010000
END:STANDARD
END:VTIMEZONE
BEGIN:VEVENT
DTSTART;TZID=Europe/Rome:20250826T083000
DTEND;TZID=Europe/Rome:20250826T090000
DTSTAMP:20260422T124708
CREATED:20250724T163059Z
LAST-MODIFIED:20250724T163059Z
UID:10019552-1756197000-1756198800@filcomsanlorenzomilano.com
SUMMARY:Messa Parrocchiale
DESCRIPTION:Messa quotidiano
URL:https://filcomsanlorenzomilano.com/event/messa-parrocchiale/2025-08-26/
LOCATION:Parrocchia S. Domenico Savio\, Via Rovigno\, 11/A\, Milano\, Milano\, 20125
CATEGORIES:Mass
ATTACH;FMTTYPE=image/webp:https://filcomsanlorenzomilano.com/wp-content/uploads/2025/07/Par-San-Domenico-Savio.webp
END:VEVENT
BEGIN:VEVENT
DTSTART;TZID=Europe/Rome:20250826T100000
DTEND;TZID=Europe/Rome:20250826T123000
DTSTAMP:20260422T124708
CREATED:20250826T135521Z
LAST-MODIFIED:20250826T135521Z
UID:10019648-1756202400-1756211400@filcomsanlorenzomilano.com
SUMMARY:Submit Modulo XIV to various Churches
DESCRIPTION:1 – San Nicolao della Flue \n2 – Santi Martiri Nereo e Achilleo \n3 – Basilica San Agostino
URL:https://filcomsanlorenzomilano.com/event/submit-modulo-xiv-to-various-churches/
LOCATION:MI
CATEGORIES:Istruttoria Matrimonio
ATTACH;FMTTYPE=image/webp:https://filcomsanlorenzomilano.com/wp-content/uploads/2025/04/Istruttoria-Matrimonio2.webp
END:VEVENT
END:VCALENDAR