BEGIN:VCALENDAR
VERSION:2.0
PRODID:-//FilCom San Lorenzo - ECPv6.15.20//NONSGML v1.0//EN
CALSCALE:GREGORIAN
METHOD:PUBLISH
X-ORIGINAL-URL:https://filcomsanlorenzomilano.com
X-WR-CALDESC:Events for FilCom San Lorenzo
REFRESH-INTERVAL;VALUE=DURATION:PT1H
X-Robots-Tag:noindex
X-PUBLISHED-TTL:PT1H
BEGIN:VTIMEZONE
TZID:Europe/Rome
BEGIN:DAYLIGHT
TZOFFSETFROM:+0100
TZOFFSETTO:+0200
TZNAME:CEST
DTSTART:20240331T010000
END:DAYLIGHT
BEGIN:STANDARD
TZOFFSETFROM:+0200
TZOFFSETTO:+0100
TZNAME:CET
DTSTART:20241027T010000
END:STANDARD
BEGIN:DAYLIGHT
TZOFFSETFROM:+0100
TZOFFSETTO:+0200
TZNAME:CEST
DTSTART:20250330T010000
END:DAYLIGHT
BEGIN:STANDARD
TZOFFSETFROM:+0200
TZOFFSETTO:+0100
TZNAME:CET
DTSTART:20251026T010000
END:STANDARD
BEGIN:DAYLIGHT
TZOFFSETFROM:+0100
TZOFFSETTO:+0200
TZNAME:CEST
DTSTART:20260329T010000
END:DAYLIGHT
BEGIN:STANDARD
TZOFFSETFROM:+0200
TZOFFSETTO:+0100
TZNAME:CET
DTSTART:20261025T010000
END:STANDARD
END:VTIMEZONE
BEGIN:VEVENT
DTSTART;TZID=Europe/Rome:20250830T080000
DTEND;TZID=Europe/Rome:20250830T170000
DTSTAMP:20260422T124710
CREATED:20250806T035825Z
LAST-MODIFIED:20250806T035825Z
UID:10019569-1756540800-1756573200@filcomsanlorenzomilano.com
SUMMARY:Assemblea Ispettoriale
DESCRIPTION:Assemblea Ispettoriale a Treviglio e ritiro di inizio anno
URL:https://filcomsanlorenzomilano.com/event/assemblea-ispettoriale/
LOCATION:Istituto Salesiano “Centro Don Bosco”\, Via G. Zanovello\, 1\, Treviglio\, BG\, 24047\, Italy
CATEGORIES:Formation,Meeting / Planning,Retreats & Recollection
ATTACH;FMTTYPE=image/webp:https://filcomsanlorenzomilano.com/wp-content/uploads/2025/05/SDB-SDS-Logo.webp
END:VEVENT
BEGIN:VEVENT
DTSTART;TZID=Europe/Rome:20250830T110000
DTEND;TZID=Europe/Rome:20250830T120000
DTSTAMP:20260422T124710
CREATED:20250819T095129Z
LAST-MODIFIED:20250819T095129Z
UID:10019626-1756551600-1756555200@filcomsanlorenzomilano.com
SUMMARY:House Blessing - John Luigi FLORES
DESCRIPTION:John Lugi FLORES +39 391 117 4120 \nTo be fetched in Via Rovigno 11/a at 10:45 am
URL:https://filcomsanlorenzomilano.com/event/house-blessing-john-luigi-flores/
LOCATION:Flores\, John Luigi\, Via Cristoforo Gluck 62\, Milano\, MI\, 20125\, Italy
CATEGORIES:Blessing
ATTACH;FMTTYPE=image/webp:https://filcomsanlorenzomilano.com/wp-content/uploads/2025/02/House-Blessing.webp
END:VEVENT
END:VCALENDAR