BEGIN:VCALENDAR
VERSION:2.0
PRODID:-//FilCom San Lorenzo - ECPv6.15.20//NONSGML v1.0//EN
CALSCALE:GREGORIAN
METHOD:PUBLISH
X-ORIGINAL-URL:https://filcomsanlorenzomilano.com
X-WR-CALDESC:Events for FilCom San Lorenzo
REFRESH-INTERVAL;VALUE=DURATION:PT1H
X-Robots-Tag:noindex
X-PUBLISHED-TTL:PT1H
BEGIN:VTIMEZONE
TZID:Europe/Rome
BEGIN:DAYLIGHT
TZOFFSETFROM:+0100
TZOFFSETTO:+0200
TZNAME:CEST
DTSTART:20240331T010000
END:DAYLIGHT
BEGIN:STANDARD
TZOFFSETFROM:+0200
TZOFFSETTO:+0100
TZNAME:CET
DTSTART:20241027T010000
END:STANDARD
BEGIN:DAYLIGHT
TZOFFSETFROM:+0100
TZOFFSETTO:+0200
TZNAME:CEST
DTSTART:20250330T010000
END:DAYLIGHT
BEGIN:STANDARD
TZOFFSETFROM:+0200
TZOFFSETTO:+0100
TZNAME:CET
DTSTART:20251026T010000
END:STANDARD
BEGIN:DAYLIGHT
TZOFFSETFROM:+0100
TZOFFSETTO:+0200
TZNAME:CEST
DTSTART:20260329T010000
END:DAYLIGHT
BEGIN:STANDARD
TZOFFSETFROM:+0200
TZOFFSETTO:+0100
TZNAME:CET
DTSTART:20261025T010000
END:STANDARD
END:VTIMEZONE
BEGIN:VEVENT
DTSTART;TZID=Europe/Rome:20250904T083000
DTEND;TZID=Europe/Rome:20250904T090000
DTSTAMP:20260422T141426
CREATED:20250901T065629Z
LAST-MODIFIED:20251007T142457Z
UID:10019682-1756974600-1756976400@filcomsanlorenzomilano.com
SUMMARY:Messa Parrochiale
DESCRIPTION:
URL:https://filcomsanlorenzomilano.com/event/messa-parrochiale-2/2025-09-04/
LOCATION:Parrocchia S. Domenico Savio\, Via Rovigno\, 11/A\, Milano\, Milano\, 20125
CATEGORIES:Mass
ATTACH;FMTTYPE=image/webp:https://filcomsanlorenzomilano.com/wp-content/uploads/2025/07/Par-San-Domenico-Savio.webp
END:VEVENT
BEGIN:VEVENT
DTSTART;TZID=Europe/Rome:20250904T100000
DTEND;TZID=Europe/Rome:20250904T110000
DTSTAMP:20260422T141426
CREATED:20250904T115613Z
LAST-MODIFIED:20250904T115614Z
UID:10019681-1756980000-1756983600@filcomsanlorenzomilano.com
SUMMARY:Sick Visitation Dominador Lopez
DESCRIPTION:Confession – Anointing of the Scik – Holy Communion \n 
URL:https://filcomsanlorenzomilano.com/event/sick-visitation-dominador-lopez/
LOCATION:Hospice Casa Vidas\, Via Ugo Ojetti\, 66\, Milano\, MI\, 20151\, Italy
CATEGORIES:Sick Visitation
ATTACH;FMTTYPE=image/webp:https://filcomsanlorenzomilano.com/wp-content/uploads/2025/07/Anointing-of-the-sick.webp
END:VEVENT
END:VCALENDAR