BEGIN:VCALENDAR
VERSION:2.0
PRODID:-//FilCom San Lorenzo - ECPv6.15.20//NONSGML v1.0//EN
CALSCALE:GREGORIAN
METHOD:PUBLISH
X-WR-CALNAME:FilCom San Lorenzo
X-ORIGINAL-URL:https://filcomsanlorenzomilano.com
X-WR-CALDESC:Events for FilCom San Lorenzo
REFRESH-INTERVAL;VALUE=DURATION:PT1H
X-Robots-Tag:noindex
X-PUBLISHED-TTL:PT1H
BEGIN:VTIMEZONE
TZID:Europe/Rome
BEGIN:DAYLIGHT
TZOFFSETFROM:+0100
TZOFFSETTO:+0200
TZNAME:CEST
DTSTART:20250330T010000
END:DAYLIGHT
BEGIN:STANDARD
TZOFFSETFROM:+0200
TZOFFSETTO:+0100
TZNAME:CET
DTSTART:20251026T010000
END:STANDARD
BEGIN:DAYLIGHT
TZOFFSETFROM:+0100
TZOFFSETTO:+0200
TZNAME:CEST
DTSTART:20260329T010000
END:DAYLIGHT
BEGIN:STANDARD
TZOFFSETFROM:+0200
TZOFFSETTO:+0100
TZNAME:CET
DTSTART:20261025T010000
END:STANDARD
BEGIN:DAYLIGHT
TZOFFSETFROM:+0100
TZOFFSETTO:+0200
TZNAME:CEST
DTSTART:20270328T010000
END:DAYLIGHT
BEGIN:STANDARD
TZOFFSETFROM:+0200
TZOFFSETTO:+0100
TZNAME:CET
DTSTART:20271031T010000
END:STANDARD
END:VTIMEZONE
BEGIN:VEVENT
DTSTART;TZID=Europe/Rome:20260416T103000
DTEND;TZID=Europe/Rome:20260416T123000
DTSTAMP:20260420T154920
CREATED:20250915T145125Z
LAST-MODIFIED:20251015T170815Z
UID:10019741-1776335400-1776342600@filcomsanlorenzomilano.com
SUMMARY:Incontro Cappellani Migranti
DESCRIPTION:
URL:https://filcomsanlorenzomilano.com/event/incontro-cappellani-migranti/2026-04-16/
LOCATION:Parrocchia Santo Stefano\, Piazza Santo Stefano\, 12\, Milano\, Miulano\, 20122
CATEGORIES:Meeting / Planning
ATTACH;FMTTYPE=image/webp:https://filcomsanlorenzomilano.com/wp-content/uploads/2025/04/Riunione-Cappellani-dei-migranti.webp
END:VEVENT
BEGIN:VEVENT
DTSTART;TZID=Europe/Rome:20260416T160000
DTEND;TZID=Europe/Rome:20260416T163000
DTSTAMP:20260420T154920
CREATED:20260414T201005Z
LAST-MODIFIED:20260414T201005Z
UID:10020198-1776355200-1776357000@filcomsanlorenzomilano.com
SUMMARY:Meet Chiara Jayne BITANG
DESCRIPTION:Modulo VIII-IX & X
URL:https://filcomsanlorenzomilano.com/event/meet-chiara-jayne-bitang/
LOCATION:Parrocchia S. Domenico Savio\, Via Rovigno\, 11/A\, Milano\, Milano\, 20125
CATEGORIES:Istruttoria Matrimonio
ATTACH;FMTTYPE=image/webp:https://filcomsanlorenzomilano.com/wp-content/uploads/2025/04/Istruttoria-Matrimonio2.webp
END:VEVENT
BEGIN:VEVENT
DTSTART;TZID=Europe/Rome:20260416T193000
DTEND;TZID=Europe/Rome:20260416T210000
DTSTAMP:20260420T154921
CREATED:20251006T071916Z
LAST-MODIFIED:20251006T072011Z
UID:10019839-1776367800-1776373200@filcomsanlorenzomilano.com
SUMMARY:Bible Study
DESCRIPTION:Online – Via Zoom
URL:https://filcomsanlorenzomilano.com/event/bible-study-3/2026-04-16/
LOCATION:Parrocchia S. Domenico Savio\, Via Rovigno\, 11/A\, Milano\, Milano\, 20125
CATEGORIES:Formation
ATTACH;FMTTYPE=image/webp:https://filcomsanlorenzomilano.com/wp-content/uploads/2025/03/Bible-Study.webp
END:VEVENT
END:VCALENDAR