BEGIN:VCALENDAR
VERSION:2.0
PRODID:-//FilCom San Lorenzo - ECPv6.15.20//NONSGML v1.0//EN
CALSCALE:GREGORIAN
METHOD:PUBLISH
X-WR-CALNAME:FilCom San Lorenzo
X-ORIGINAL-URL:https://filcomsanlorenzomilano.com
X-WR-CALDESC:Events for FilCom San Lorenzo
REFRESH-INTERVAL;VALUE=DURATION:PT1H
X-Robots-Tag:noindex
X-PUBLISHED-TTL:PT1H
BEGIN:VTIMEZONE
TZID:Europe/Rome
BEGIN:DAYLIGHT
TZOFFSETFROM:+0100
TZOFFSETTO:+0200
TZNAME:CEST
DTSTART:20250330T010000
END:DAYLIGHT
BEGIN:STANDARD
TZOFFSETFROM:+0200
TZOFFSETTO:+0100
TZNAME:CET
DTSTART:20251026T010000
END:STANDARD
BEGIN:DAYLIGHT
TZOFFSETFROM:+0100
TZOFFSETTO:+0200
TZNAME:CEST
DTSTART:20260329T010000
END:DAYLIGHT
BEGIN:STANDARD
TZOFFSETFROM:+0200
TZOFFSETTO:+0100
TZNAME:CET
DTSTART:20261025T010000
END:STANDARD
BEGIN:DAYLIGHT
TZOFFSETFROM:+0100
TZOFFSETTO:+0200
TZNAME:CEST
DTSTART:20270328T010000
END:DAYLIGHT
BEGIN:STANDARD
TZOFFSETFROM:+0200
TZOFFSETTO:+0100
TZNAME:CET
DTSTART:20271031T010000
END:STANDARD
END:VTIMEZONE
BEGIN:VEVENT
DTSTART;TZID=Europe/Rome:20260417T160000
DTEND;TZID=Europe/Rome:20260417T180000
DTSTAMP:20260423T112733
CREATED:20260413T145418Z
LAST-MODIFIED:20260413T145633Z
UID:10020192-1776441600-1776448800@filcomsanlorenzomilano.com
SUMMARY:Church Decoration for Wedding
DESCRIPTION:Prepare the Church for the Wedding of Recto SAMANIEGO – Paz ALVAREZ
URL:https://filcomsanlorenzomilano.com/event/church-decoration-for-wedding/
LOCATION:Parrocchia S. Domenico Savio\, Via Rovigno\, 11/A\, Milano\, Milano\, 20125
CATEGORIES:Istruttoria Matrimonio
ATTACH;FMTTYPE=image/webp:https://filcomsanlorenzomilano.com/wp-content/uploads/2025/04/Istruttoria-Matrimonio2.webp
END:VEVENT
BEGIN:VEVENT
DTSTART;TZID=Europe/Rome:20260417T190000
DTEND;TZID=Europe/Rome:20260417T200000
DTSTAMP:20260423T112733
CREATED:20260413T162947Z
LAST-MODIFIED:20260413T162947Z
UID:10020193-1776452400-1776456000@filcomsanlorenzomilano.com
SUMMARY:House Blessing - Baldeo
DESCRIPTION:Mildred – Dennis Baldeo | Zona Sesto San Giovanni | To be fetched at Sesto Marelli
URL:https://filcomsanlorenzomilano.com/event/house-blessing-baldeo/
LOCATION:MI
CATEGORIES:Blessing
ATTACH;FMTTYPE=image/webp:https://filcomsanlorenzomilano.com/wp-content/uploads/2025/02/House-Blessing.webp
END:VEVENT
END:VCALENDAR