BEGIN:VCALENDAR
VERSION:2.0
PRODID:-//FilCom San Lorenzo - ECPv6.15.20//NONSGML v1.0//EN
CALSCALE:GREGORIAN
METHOD:PUBLISH
X-WR-CALNAME:FilCom San Lorenzo
X-ORIGINAL-URL:https://filcomsanlorenzomilano.com
X-WR-CALDESC:Events for FilCom San Lorenzo
REFRESH-INTERVAL;VALUE=DURATION:PT1H
X-Robots-Tag:noindex
X-PUBLISHED-TTL:PT1H
BEGIN:VTIMEZONE
TZID:Europe/Rome
BEGIN:DAYLIGHT
TZOFFSETFROM:+0100
TZOFFSETTO:+0200
TZNAME:CEST
DTSTART:20210328T010000
END:DAYLIGHT
BEGIN:STANDARD
TZOFFSETFROM:+0200
TZOFFSETTO:+0100
TZNAME:CET
DTSTART:20211031T010000
END:STANDARD
BEGIN:DAYLIGHT
TZOFFSETFROM:+0100
TZOFFSETTO:+0200
TZNAME:CEST
DTSTART:20220327T010000
END:DAYLIGHT
BEGIN:STANDARD
TZOFFSETFROM:+0200
TZOFFSETTO:+0100
TZNAME:CET
DTSTART:20221030T010000
END:STANDARD
BEGIN:DAYLIGHT
TZOFFSETFROM:+0100
TZOFFSETTO:+0200
TZNAME:CEST
DTSTART:20230326T010000
END:DAYLIGHT
BEGIN:STANDARD
TZOFFSETFROM:+0200
TZOFFSETTO:+0100
TZNAME:CET
DTSTART:20231029T010000
END:STANDARD
END:VTIMEZONE
BEGIN:VEVENT
DTSTART;VALUE=DATE:20220515
DTEND;VALUE=DATE:20220517
DTSTAMP:20260424T111931
CREATED:20220108T064246Z
LAST-MODIFIED:20220108T064246Z
UID:10014192-1652580000-1652666399@filcomsanlorenzomilano.com
SUMMARY:5th Sunday of Easter
DESCRIPTION:
URL:https://filcomsanlorenzomilano.com/event/5th-sunday-of-easter/
LOCATION:MI
CATEGORIES:Liturgy Calendar
END:VEVENT
BEGIN:VEVENT
DTSTART;TZID=Europe/Rome:20220519T213000
DTEND;TZID=Europe/Rome:20220519T230000
DTSTAMP:20260424T111931
CREATED:20220106T215443Z
LAST-MODIFIED:20220106T215443Z
UID:10014074-1652995800-1653001200@filcomsanlorenzomilano.com
SUMMARY:Bible Study
DESCRIPTION:Online Bible Study via Zoom\nFace-to-Face encounter will be prefered once it is already possible.
URL:https://filcomsanlorenzomilano.com/event/bible-study/2022-05-19/
LOCATION:Oratorio San Domenico Savio\, Via Rovigno\, 19\, Milano\, Milano\, 20125\, Italy
CATEGORIES:Formation
END:VEVENT
BEGIN:VEVENT
DTSTART;TZID=Europe/Rome:20220520T210000
DTEND;TZID=Europe/Rome:20220520T230000
DTSTAMP:20260424T111931
CREATED:20220307T184002Z
LAST-MODIFIED:20220307T184002Z
UID:10014376-1653080400-1653087600@filcomsanlorenzomilano.com
SUMMARY:Dinner with CFL Made in Heaven Retreat Speakers
DESCRIPTION:Bro. Rodel Alamodin with CFL Speakers from USA\, Ireland\, UK
URL:https://filcomsanlorenzomilano.com/event/dinner-with-cfl-made-in-heaven-retreat-speakers/
LOCATION:MI
CATEGORIES:Formation
END:VEVENT
BEGIN:VEVENT
DTSTART;TZID=Europe/Rome:20220521T210000
DTEND;TZID=Europe/Rome:20220521T220000
DTSTAMP:20260424T111931
CREATED:20220515T065848Z
LAST-MODIFIED:20220515T065848Z
UID:10014617-1653166800-1653170400@filcomsanlorenzomilano.com
SUMMARY:Vows MALVEDA-ARANDA
DESCRIPTION:Brix Rigor MALVEDA – Shelly Ann Cristina ARANDA
URL:https://filcomsanlorenzomilano.com/event/vows-malveda-aranda/
LOCATION:Parrocchia S. Domenico Savio\, Via Rovigno\, 11/A\, Milano\, Milano\, 20125
CATEGORIES:Seminar
END:VEVENT
BEGIN:VEVENT
DTSTART;VALUE=DATE:20220522
DTEND;VALUE=DATE:20220524
DTSTAMP:20260424T111931
CREATED:20220108T064321Z
LAST-MODIFIED:20220108T064321Z
UID:10013978-1653184800-1653271199@filcomsanlorenzomilano.com
SUMMARY:6th Sunday of Easter
DESCRIPTION:
URL:https://filcomsanlorenzomilano.com/event/6th-sunday-of-easter/
LOCATION:MI
CATEGORIES:Liturgy Calendar
END:VEVENT
BEGIN:VEVENT
DTSTART;VALUE=DATE:20220522
DTEND;VALUE=DATE:20220524
DTSTAMP:20260424T111931
CREATED:20220426T082819Z
LAST-MODIFIED:20220426T082819Z
UID:10014599-1653184800-1653271199@filcomsanlorenzomilano.com
SUMMARY:Launching Fiesta Señor 2023 LOCAL
DESCRIPTION:
URL:https://filcomsanlorenzomilano.com/event/launching-fiesta-senor-2023-local/
LOCATION:MI
END:VEVENT
BEGIN:VEVENT
DTSTART;TZID=Europe/Rome:20220522T110000
DTEND;TZID=Europe/Rome:20220522T120000
DTSTAMP:20260424T111931
CREATED:20220413T182855Z
LAST-MODIFIED:20220413T182855Z
UID:10014527-1653217200-1653220800@filcomsanlorenzomilano.com
SUMMARY:Mass FCSD
DESCRIPTION:
URL:https://filcomsanlorenzomilano.com/event/mass-fcsd-3/
LOCATION:Parrocchia S. Maria Ausiliatrice\, Via M. Greppi\, 5\, San Donato Milanese\, Milan\, 20097\, Italy
CATEGORIES:Mass
END:VEVENT
BEGIN:VEVENT
DTSTART;TZID=Europe/Rome:20220522T130000
DTEND;TZID=Europe/Rome:20220522T143000
DTSTAMP:20260424T111931
CREATED:20220321T153949Z
LAST-MODIFIED:20220423T064514Z
UID:10014401-1653224400-1653229800@filcomsanlorenzomilano.com
SUMMARY:NO BAPTISM @ Turro
DESCRIPTION:
URL:https://filcomsanlorenzomilano.com/event/no-baptism-turro-3-2022-05-22/2022-05-22/
LOCATION:Parrocchia S. Domenico Savio\, Via Rovigno\, 11/A\, Milano\, Milano\, 20125
CATEGORIES:Baptism
END:VEVENT
BEGIN:VEVENT
DTSTART;TZID=Europe/Rome:20220522T130000
DTEND;TZID=Europe/Rome:20220522T143000
DTSTAMP:20260424T111931
CREATED:20220422T145144Z
LAST-MODIFIED:20220422T145144Z
UID:10014590-1653224400-1653229800@filcomsanlorenzomilano.com
SUMMARY:Mass - CFL
DESCRIPTION:Made in Heaven Retreat
URL:https://filcomsanlorenzomilano.com/event/mass-cfl/
LOCATION:Santuario di Madonna Adolorata\, Corso Europa\, 228\, Rho\, Mi\, 20017\, Italy
CATEGORIES:Formation,Mass
END:VEVENT
BEGIN:VEVENT
DTSTART;TZID=Europe/Rome:20220522T150000
DTEND;TZID=Europe/Rome:20220522T160000
DTSTAMP:20260424T111931
CREATED:20220125T200213Z
LAST-MODIFIED:20220424T181019Z
UID:10014287-1653231600-1653235200@filcomsanlorenzomilano.com
SUMMARY:Mass FCGS + Baptism
DESCRIPTION:Mass Filipino Community of Gesù Salvatore (Milano 3) \nwith BAPTISM of Alessia ABELLERA
URL:https://filcomsanlorenzomilano.com/event/mass-fcgs-2022-05-22/
LOCATION:Parrocchia Gesù Salvatore\, Via Alessandro Manzoni\, 1\, Basiglio\, Milano\, 20080\, Italy
CATEGORIES:Baptism,Mass
END:VEVENT
END:VCALENDAR