BEGIN:VCALENDAR
VERSION:2.0
PRODID:-//FilCom San Lorenzo - ECPv6.15.20//NONSGML v1.0//EN
CALSCALE:GREGORIAN
METHOD:PUBLISH
X-ORIGINAL-URL:https://filcomsanlorenzomilano.com
X-WR-CALDESC:Events for FilCom San Lorenzo
REFRESH-INTERVAL;VALUE=DURATION:PT1H
X-Robots-Tag:noindex
X-PUBLISHED-TTL:PT1H
BEGIN:VTIMEZONE
TZID:Europe/Rome
BEGIN:DAYLIGHT
TZOFFSETFROM:+0100
TZOFFSETTO:+0200
TZNAME:CEST
DTSTART:20210328T010000
END:DAYLIGHT
BEGIN:STANDARD
TZOFFSETFROM:+0200
TZOFFSETTO:+0100
TZNAME:CET
DTSTART:20211031T010000
END:STANDARD
BEGIN:DAYLIGHT
TZOFFSETFROM:+0100
TZOFFSETTO:+0200
TZNAME:CEST
DTSTART:20220327T010000
END:DAYLIGHT
BEGIN:STANDARD
TZOFFSETFROM:+0200
TZOFFSETTO:+0100
TZNAME:CET
DTSTART:20221030T010000
END:STANDARD
BEGIN:DAYLIGHT
TZOFFSETFROM:+0100
TZOFFSETTO:+0200
TZNAME:CEST
DTSTART:20230326T010000
END:DAYLIGHT
BEGIN:STANDARD
TZOFFSETFROM:+0200
TZOFFSETTO:+0100
TZNAME:CET
DTSTART:20231029T010000
END:STANDARD
END:VTIMEZONE
BEGIN:VEVENT
DTSTART;VALUE=DATE:20220522
DTEND;VALUE=DATE:20220524
DTSTAMP:20260424T095304
CREATED:20220108T064321Z
LAST-MODIFIED:20220108T064321Z
UID:10013978-1653184800-1653271199@filcomsanlorenzomilano.com
SUMMARY:6th Sunday of Easter
DESCRIPTION:
URL:https://filcomsanlorenzomilano.com/event/6th-sunday-of-easter/
LOCATION:MI
CATEGORIES:Liturgy Calendar
END:VEVENT
BEGIN:VEVENT
DTSTART;VALUE=DATE:20220522
DTEND;VALUE=DATE:20220524
DTSTAMP:20260424T095304
CREATED:20220426T082819Z
LAST-MODIFIED:20220426T082819Z
UID:10014599-1653184800-1653271199@filcomsanlorenzomilano.com
SUMMARY:Launching Fiesta Señor 2023 LOCAL
DESCRIPTION:
URL:https://filcomsanlorenzomilano.com/event/launching-fiesta-senor-2023-local/
LOCATION:MI
END:VEVENT
BEGIN:VEVENT
DTSTART;TZID=Europe/Rome:20220524T213000
DTEND;TZID=Europe/Rome:20220524T220000
DTSTAMP:20260424T095304
CREATED:20220522T032508Z
LAST-MODIFIED:20220522T032508Z
UID:10014618-1653427800-1653429600@filcomsanlorenzomilano.com
SUMMARY:Confess Brix-Shelly
DESCRIPTION:
URL:https://filcomsanlorenzomilano.com/event/confess-brix-shelly/
LOCATION:Parrocchia S. Domenico Savio\, Via Rovigno\, 11/A\, Milano\, Milano\, 20125
CATEGORIES:Confession
END:VEVENT
BEGIN:VEVENT
DTSTART;TZID=Europe/Rome:20220526T213000
DTEND;TZID=Europe/Rome:20220526T230000
DTSTAMP:20260424T095304
CREATED:20220106T215443Z
LAST-MODIFIED:20220106T215443Z
UID:10014075-1653600600-1653606000@filcomsanlorenzomilano.com
SUMMARY:Bible Study
DESCRIPTION:Online Bible Study via Zoom\nFace-to-Face encounter will be prefered once it is already possible.
URL:https://filcomsanlorenzomilano.com/event/bible-study/2022-05-26/
LOCATION:Oratorio San Domenico Savio\, Via Rovigno\, 19\, Milano\, Milano\, 20125\, Italy
CATEGORIES:Formation
END:VEVENT
BEGIN:VEVENT
DTSTART;TZID=Europe/Rome:20220526T213000
DTEND;TZID=Europe/Rome:20220526T230000
DTSTAMP:20260424T095304
CREATED:20220506T112845Z
LAST-MODIFIED:20220506T112845Z
UID:10014215-1653600600-1653606000@filcomsanlorenzomilano.com
SUMMARY:Mass Triduum 1
DESCRIPTION:Main Celebrant – Fr JP Avila \nHost – LES
URL:https://filcomsanlorenzomilano.com/event/mass-triduum-1/
LOCATION:Parrocchia Santa Maria Assunta in Turro\, Piazza Privata Giacomo Anelli\, 4\, Milano\, Mi\, 20127\, Italy
CATEGORIES:Mass
END:VEVENT
BEGIN:VEVENT
DTSTART;TZID=Europe/Rome:20220526T213000
DTEND;TZID=Europe/Rome:20220528T230000
DTSTAMP:20260424T095304
CREATED:20220422T150900Z
LAST-MODIFIED:20220427T185814Z
UID:10014591-1653600600-1653778800@filcomsanlorenzomilano.com
SUMMARY:Flores de Maria Triduum Days
DESCRIPTION:
URL:https://filcomsanlorenzomilano.com/event/flores-de-maria-triduum-days/
LOCATION:MI
CATEGORIES:Mass
END:VEVENT
BEGIN:VEVENT
DTSTART;TZID=Europe/Rome:20220527T213000
DTEND;TZID=Europe/Rome:20220527T230000
DTSTAMP:20260424T095304
CREATED:20220506T113043Z
LAST-MODIFIED:20220506T113043Z
UID:10014217-1653687000-1653692400@filcomsanlorenzomilano.com
SUMMARY:Mass Triduum 2
DESCRIPTION:Main Celebrant – Fr. Allen Diokno \nHost – San Giuseppe Marello
URL:https://filcomsanlorenzomilano.com/event/mass-triduum-2/
LOCATION:Parrocchia Madonna dei Poveri\, Piazza Madonna dei Poveri\, 1\, Milano\, Mi\, 20152
CATEGORIES:Mass
END:VEVENT
BEGIN:VEVENT
DTSTART;TZID=Europe/Rome:20220528T213000
DTEND;TZID=Europe/Rome:20220528T230000
DTSTAMP:20260424T095304
CREATED:20220506T113225Z
LAST-MODIFIED:20220506T113225Z
UID:10014219-1653773400-1653778800@filcomsanlorenzomilano.com
SUMMARY:Mass Triduum 3
DESCRIPTION:Main Celebrant – Fr. Bong Osial \nHost – San Lorenzo & Carmine
URL:https://filcomsanlorenzomilano.com/event/mass-triduum-3/
LOCATION:Santa Maria del Carmine\, Piazza del Carmine\, 2\, Milano\, Mi\, 20121\, Italy
CATEGORIES:Mass
END:VEVENT
BEGIN:VEVENT
DTSTART;VALUE=DATE:20220529
DTEND;VALUE=DATE:20220531
DTSTAMP:20260424T095304
CREATED:20220108T064404Z
LAST-MODIFIED:20220108T064404Z
UID:10013979-1653789600-1653875999@filcomsanlorenzomilano.com
SUMMARY:The Ascension of the Lord
DESCRIPTION:
URL:https://filcomsanlorenzomilano.com/event/the-ascension-of-the-lord/
LOCATION:MI
CATEGORIES:Liturgy Calendar
END:VEVENT
BEGIN:VEVENT
DTSTART;TZID=Europe/Rome:20220529T130000
DTEND;TZID=Europe/Rome:20220529T143000
DTSTAMP:20260424T095304
CREATED:20220220T201931Z
LAST-MODIFIED:20220429T142128Z
UID:10014144-1653829200-1653834600@filcomsanlorenzomilano.com
SUMMARY:Baptism 1-COMIA\, 2-NANG\, 3-RIVERA\, 4-QUIROZ\, 5-CARIAGA
DESCRIPTION:Mass with Baptism 1-Elias Caleb COMIA\, 2-Gea Murielle NANG\, 3-Aiviell Jae RIVERA (Parma) \, 4-Francesca QUIROZ \, 5-Jared CARIAGA (Monza) \nConfirmed 5 baptisms
URL:https://filcomsanlorenzomilano.com/event/baptism-elias-caleb-comia/
LOCATION:Parrocchia S. Domenico Savio\, Via Rovigno\, 11/A\, Milano\, Milano\, 20125
CATEGORIES:Baptism,Special Mass
END:VEVENT
BEGIN:VEVENT
DTSTART;TZID=Europe/Rome:20220529T150000
DTEND;TZID=Europe/Rome:20220529T160000
DTSTAMP:20260424T095304
CREATED:20220125T200213Z
LAST-MODIFIED:20220424T181229Z
UID:10014288-1653836400-1653840000@filcomsanlorenzomilano.com
SUMMARY:Mass FCGS + Baptism PERMISON
DESCRIPTION:Mass Filipino Community of Gesù Salvatore (Milano 3) \nwith BAPTISM of Bryan PERMISON
URL:https://filcomsanlorenzomilano.com/event/mass-fcgs-2022-05-29/
LOCATION:Parrocchia Gesù Salvatore\, Via Alessandro Manzoni\, 1\, Basiglio\, Milano\, 20080\, Italy
CATEGORIES:Baptism,Mass
END:VEVENT
BEGIN:VEVENT
DTSTART;TZID=Europe/Rome:20220529T180000
DTEND;TZID=Europe/Rome:20220529T193000
DTSTAMP:20260424T095304
CREATED:20220107T052934Z
LAST-MODIFIED:20220506T113630Z
UID:10014102-1653847200-1653852600@filcomsanlorenzomilano.com
SUMMARY:Flores de Maria
DESCRIPTION:
URL:https://filcomsanlorenzomilano.com/event/santa-cruzan-sa-milano/
LOCATION:Parrocchia Santo Stefano\, Piazza Santo Stefano\, 12\, Milano\, Miulano\, 20122
CATEGORIES:Mass,Socio-Cultural,Worship
END:VEVENT
BEGIN:VEVENT
DTSTART;TZID=Europe/Rome:20220529T200000
DTEND;TZID=Europe/Rome:20220529T210000
DTSTAMP:20260424T095304
CREATED:20220506T162109Z
LAST-MODIFIED:20220506T162109Z
UID:10014221-1653854400-1653858000@filcomsanlorenzomilano.com
SUMMARY:Mass bday of Gemini BERCERO
DESCRIPTION:Hermie Bercero’s bday is May 24 – she is 74 years old \nLocale within the Parish for the Mass \nAPPUNNTAMENTO DA CONFERMARE
URL:https://filcomsanlorenzomilano.com/event/mass-bday-of-gemini-bercero/
LOCATION:MI
CATEGORIES:Mass
END:VEVENT
END:VCALENDAR