BEGIN:VCALENDAR
VERSION:2.0
PRODID:-//FilCom San Lorenzo - ECPv6.15.20//NONSGML v1.0//EN
CALSCALE:GREGORIAN
METHOD:PUBLISH
X-WR-CALNAME:FilCom San Lorenzo
X-ORIGINAL-URL:https://filcomsanlorenzomilano.com
X-WR-CALDESC:Events for FilCom San Lorenzo
REFRESH-INTERVAL;VALUE=DURATION:PT1H
X-Robots-Tag:noindex
X-PUBLISHED-TTL:PT1H
BEGIN:VTIMEZONE
TZID:Europe/Rome
BEGIN:DAYLIGHT
TZOFFSETFROM:+0100
TZOFFSETTO:+0200
TZNAME:CEST
DTSTART:20210328T010000
END:DAYLIGHT
BEGIN:STANDARD
TZOFFSETFROM:+0200
TZOFFSETTO:+0100
TZNAME:CET
DTSTART:20211031T010000
END:STANDARD
BEGIN:DAYLIGHT
TZOFFSETFROM:+0100
TZOFFSETTO:+0200
TZNAME:CEST
DTSTART:20220327T010000
END:DAYLIGHT
BEGIN:STANDARD
TZOFFSETFROM:+0200
TZOFFSETTO:+0100
TZNAME:CET
DTSTART:20221030T010000
END:STANDARD
BEGIN:DAYLIGHT
TZOFFSETFROM:+0100
TZOFFSETTO:+0200
TZNAME:CEST
DTSTART:20230326T010000
END:DAYLIGHT
BEGIN:STANDARD
TZOFFSETFROM:+0200
TZOFFSETTO:+0100
TZNAME:CET
DTSTART:20231029T010000
END:STANDARD
END:VTIMEZONE
BEGIN:VEVENT
DTSTART;VALUE=DATE:20220626
DTEND;VALUE=DATE:20220628
DTSTAMP:20260423T112750
CREATED:20220108T064942Z
LAST-MODIFIED:20220108T064942Z
UID:10013983-1656208800-1656295199@filcomsanlorenzomilano.com
SUMMARY:13th Sunday in Ordinary Time
DESCRIPTION:
URL:https://filcomsanlorenzomilano.com/event/13th-sunday-in-ordinary-time/
LOCATION:MI
CATEGORIES:Liturgy Calendar
END:VEVENT
BEGIN:VEVENT
DTSTART;TZID=Europe/Rome:20220628T103000
DTEND;TZID=Europe/Rome:20220628T113000
DTSTAMP:20260423T112750
CREATED:20220628T053216Z
LAST-MODIFIED:20220628T053216Z
UID:10014657-1656412200-1656415800@filcomsanlorenzomilano.com
SUMMARY:Confess MACALINDONG-DELEN
DESCRIPTION:Confession
URL:https://filcomsanlorenzomilano.com/event/confess-macalindong-delen/
LOCATION:Parrocchia S. Domenico Savio\, Via Rovigno\, 11/A\, Milano\, Milano\, 20125
CATEGORIES:Confession
END:VEVENT
BEGIN:VEVENT
DTSTART;TZID=Europe/Rome:20220628T200000
DTEND;TZID=Europe/Rome:20220628T220000
DTSTAMP:20260423T112750
CREATED:20220614T110357Z
LAST-MODIFIED:20220920T180636Z
UID:10014629-1656446400-1656453600@filcomsanlorenzomilano.com
SUMMARY:Wedding Seminar UBALDO-DAGO-O
DESCRIPTION:Jester Ubaldo – Cherry Dago-o | Weding Seminar | To be married in Nueva Ecija come August 2022 \n 
URL:https://filcomsanlorenzomilano.com/event/wedding-seminar-ubaldo-dago-o/2022-06-28/
LOCATION:Parrocchia San Domenicao
CATEGORIES:Confession,Formation
END:VEVENT
BEGIN:VEVENT
DTSTART;TZID=Europe/Rome:20220629T100000
DTEND;TZID=Europe/Rome:20220629T113000
DTSTAMP:20260423T112750
CREATED:20220628T053435Z
LAST-MODIFIED:20220628T053435Z
UID:10014243-1656496800-1656502200@filcomsanlorenzomilano.com
SUMMARY:Intervista Canonica-Vows MACALINDONG-DELEN
DESCRIPTION:Intervista Canonica & Vows – Adrian MACALINDONG – Ma. Bernadeth DELEN
URL:https://filcomsanlorenzomilano.com/event/intervista-canonica-vows-macalindong-delen/
LOCATION:Parrocchia S. Domenico Savio\, Via Rovigno\, 11/A\, Milano\, Milano\, 20125
CATEGORIES:Interview,Seminar
END:VEVENT
BEGIN:VEVENT
DTSTART;TZID=Europe/Rome:20220630T200000
DTEND;TZID=Europe/Rome:20220630T220000
DTSTAMP:20260423T112750
CREATED:20220617T081736Z
LAST-MODIFIED:20220617T122611Z
UID:10014641-1656619200-1656626400@filcomsanlorenzomilano.com
SUMMARY:House Blessing - Malabanan
DESCRIPTION:Rex John MALABANAN – Sherika Mae UBALDO \nCitofono Malabanan \nPiano 5
URL:https://filcomsanlorenzomilano.com/event/house-blessing-malabanan/
LOCATION:Rex John – Sherika Mae MALABANAN\, Via Aldo Moro\, 7\, Cassano d'Adda\, Milano\, 20062\, Italy
CATEGORIES:Blessing
END:VEVENT
BEGIN:VEVENT
DTSTART;TZID=Europe/Rome:20220630T213000
DTEND;TZID=Europe/Rome:20220630T230000
DTSTAMP:20260423T112750
CREATED:20220106T215443Z
LAST-MODIFIED:20220106T215443Z
UID:10014080-1656624600-1656630000@filcomsanlorenzomilano.com
SUMMARY:Bible Study
DESCRIPTION:Online Bible Study via Zoom\nFace-to-Face encounter will be prefered once it is already possible.
URL:https://filcomsanlorenzomilano.com/event/bible-study/2022-06-30/
LOCATION:Oratorio San Domenico Savio\, Via Rovigno\, 19\, Milano\, Milano\, 20125\, Italy
CATEGORIES:Formation
END:VEVENT
BEGIN:VEVENT
DTSTART;TZID=Europe/Rome:20220701T193000
DTEND;TZID=Europe/Rome:20220701T213000
DTSTAMP:20260423T112750
CREATED:20220629T053412Z
LAST-MODIFIED:20220701T115506Z
UID:10014246-1656703800-1656711000@filcomsanlorenzomilano.com
SUMMARY:Car Blessing Jun-Lorena DE CASTRO
DESCRIPTION:with dinner
URL:https://filcomsanlorenzomilano.com/event/car-blessing-jun-lorena-de-castro/
LOCATION:Parrocchia S. Domenico Savio\, Via Rovigno\, 11/A\, Milano\, Milano\, 20125
CATEGORIES:Blessing
END:VEVENT
BEGIN:VEVENT
DTSTART;TZID=Europe/Rome:20220701T200000
DTEND;TZID=Europe/Rome:20220701T220000
DTSTAMP:20260423T112750
CREATED:20220629T053516Z
LAST-MODIFIED:20220629T053516Z
UID:10014248-1656705600-1656712800@filcomsanlorenzomilano.com
SUMMARY:Dinner DE CASTRO Jun-Lorena
DESCRIPTION:
URL:https://filcomsanlorenzomilano.com/event/dinner-de-castro-jun-lorena/
LOCATION:MI
CATEGORIES:Dinner
END:VEVENT
BEGIN:VEVENT
DTSTART;TZID=Europe/Rome:20220702T120000
DTEND;TZID=Europe/Rome:20220702T133000
DTSTAMP:20260423T112750
CREATED:20220328T054035Z
LAST-MODIFIED:20220329T183804Z
UID:10014409-1656763200-1656768600@filcomsanlorenzomilano.com
SUMMARY:Wedding LUMABAN-LIWAG
DESCRIPTION:pamangkin ni Rollie/Esmie Bautista  FROM MALTA \npart of the MFC \nLUMABAN John & LIWAG Liezly \n  \n 
URL:https://filcomsanlorenzomilano.com/event/wedding-couple-from-malta/
LOCATION:Parrocchia Gesù Salvatore\, Via Alessandro Manzoni\, 1\, Basiglio\, Milano\, 20080\, Italy
CATEGORIES:Matrimony
END:VEVENT
BEGIN:VEVENT
DTSTART;VALUE=DATE:20220703
DTEND;VALUE=DATE:20220705
DTSTAMP:20260423T112750
CREATED:20220108T065642Z
LAST-MODIFIED:20220108T065642Z
UID:10013984-1656813600-1656899999@filcomsanlorenzomilano.com
SUMMARY:14th Sunday in Ordinary Time
DESCRIPTION:
URL:https://filcomsanlorenzomilano.com/event/14th-sunday-in-ordinary-time/
LOCATION:MI
CATEGORIES:Liturgy Calendar
END:VEVENT
BEGIN:VEVENT
DTSTART;TZID=Europe/Rome:20220703T150000
DTEND;TZID=Europe/Rome:20220703T160000
DTSTAMP:20260423T112750
CREATED:20220125T200213Z
LAST-MODIFIED:20220802T073243Z
UID:10014280-1656860400-1656864000@filcomsanlorenzomilano.com
SUMMARY:Mass FCGS
DESCRIPTION:Mass Filipino Community of Gesù Salvatore (Milano 3)
URL:https://filcomsanlorenzomilano.com/event/mass-fcgs/2022-07-03/
LOCATION:Parrocchia Gesù Salvatore\, Via Alessandro Manzoni\, 1\, Basiglio\, Milano\, 20080\, Italy
CATEGORIES:Mass
END:VEVENT
BEGIN:VEVENT
DTSTART;TZID=Europe/Rome:20220703T160000
DTEND;TZID=Europe/Rome:20220703T170000
DTSTAMP:20260423T112750
CREATED:20220106T204554Z
LAST-MODIFIED:20230111T214233Z
UID:10014014-1656864000-1656867600@filcomsanlorenzomilano.com
SUMMARY:Mass FCSL
DESCRIPTION:Regular Sunday Mass
URL:https://filcomsanlorenzomilano.com/event/mass-fcsl/2022-07-03/
LOCATION:Basilica di San Lorenzo Maggiore\, Corso di Porta Ticinese\, 39\, Milano\, Milano\, 20123\, Italy
CATEGORIES:Mass
END:VEVENT
END:VCALENDAR