BEGIN:VCALENDAR
VERSION:2.0
PRODID:-//FilCom San Lorenzo - ECPv6.15.20//NONSGML v1.0//EN
CALSCALE:GREGORIAN
METHOD:PUBLISH
X-WR-CALNAME:FilCom San Lorenzo
X-ORIGINAL-URL:https://filcomsanlorenzomilano.com
X-WR-CALDESC:Events for FilCom San Lorenzo
REFRESH-INTERVAL;VALUE=DURATION:PT1H
X-Robots-Tag:noindex
X-PUBLISHED-TTL:PT1H
BEGIN:VTIMEZONE
TZID:Europe/Rome
BEGIN:DAYLIGHT
TZOFFSETFROM:+0100
TZOFFSETTO:+0200
TZNAME:CEST
DTSTART:20210328T010000
END:DAYLIGHT
BEGIN:STANDARD
TZOFFSETFROM:+0200
TZOFFSETTO:+0100
TZNAME:CET
DTSTART:20211031T010000
END:STANDARD
BEGIN:DAYLIGHT
TZOFFSETFROM:+0100
TZOFFSETTO:+0200
TZNAME:CEST
DTSTART:20220327T010000
END:DAYLIGHT
BEGIN:STANDARD
TZOFFSETFROM:+0200
TZOFFSETTO:+0100
TZNAME:CET
DTSTART:20221030T010000
END:STANDARD
BEGIN:DAYLIGHT
TZOFFSETFROM:+0100
TZOFFSETTO:+0200
TZNAME:CEST
DTSTART:20230326T010000
END:DAYLIGHT
BEGIN:STANDARD
TZOFFSETFROM:+0200
TZOFFSETTO:+0100
TZNAME:CET
DTSTART:20231029T010000
END:STANDARD
END:VTIMEZONE
BEGIN:VEVENT
DTSTART;VALUE=DATE:20220703
DTEND;VALUE=DATE:20220705
DTSTAMP:20260424T071732
CREATED:20220108T065642Z
LAST-MODIFIED:20220108T065642Z
UID:10013984-1656813600-1656899999@filcomsanlorenzomilano.com
SUMMARY:14th Sunday in Ordinary Time
DESCRIPTION:
URL:https://filcomsanlorenzomilano.com/event/14th-sunday-in-ordinary-time/
LOCATION:MI
CATEGORIES:Liturgy Calendar
END:VEVENT
BEGIN:VEVENT
DTSTART;TZID=Europe/Rome:20220705T180000
DTEND;TZID=Europe/Rome:20220705T200000
DTSTAMP:20260424T071732
CREATED:20220106T210438Z
LAST-MODIFIED:20220107T041654Z
UID:10014044-1657044000-1657051200@filcomsanlorenzomilano.com
SUMMARY:Liturgical Formation
DESCRIPTION:Formation either for Lectors & Commentators OR Extraordinary Ministers of Holy Communion \nMost probably CANCELLED due to Covid Pandemic.
URL:https://filcomsanlorenzomilano.com/event/liturgical-formation/2022-07-05/
LOCATION:Parrocchia S. Domenico Savio\, Via Rovigno\, 11/A\, Milano\, Milano\, 20125
CATEGORIES:Formation
END:VEVENT
BEGIN:VEVENT
DTSTART;TZID=Europe/Rome:20220705T200000
DTEND;TZID=Europe/Rome:20220705T220000
DTSTAMP:20260424T071732
CREATED:20220614T110357Z
LAST-MODIFIED:20220920T180636Z
UID:10014630-1657051200-1657058400@filcomsanlorenzomilano.com
SUMMARY:Wedding Seminar UBALDO-DAGO-O
DESCRIPTION:Jester Ubaldo – Cherry Dago-o | Weding Seminar | To be married in Nueva Ecija come August 2022 \n 
URL:https://filcomsanlorenzomilano.com/event/wedding-seminar-ubaldo-dago-o/2022-07-05/
LOCATION:Parrocchia San Domenicao
CATEGORIES:Confession,Formation
END:VEVENT
BEGIN:VEVENT
DTSTART;TZID=Europe/Rome:20220707T113000
DTEND;TZID=Europe/Rome:20220707T123000
DTSTAMP:20260424T071732
CREATED:20220706T060355Z
LAST-MODIFIED:20220706T060355Z
UID:10014260-1657193400-1657197000@filcomsanlorenzomilano.com
SUMMARY:Meet Mhyline Siman (FCSL Choir)
DESCRIPTION:
URL:https://filcomsanlorenzomilano.com/event/meet-mhyline-siman-fcsl-choir/
LOCATION:MI
CATEGORIES:Meeting / Planning
END:VEVENT
BEGIN:VEVENT
DTSTART;TZID=Europe/Rome:20220707T213000
DTEND;TZID=Europe/Rome:20220707T230000
DTSTAMP:20260424T071732
CREATED:20220106T215443Z
LAST-MODIFIED:20220106T215443Z
UID:10014081-1657229400-1657234800@filcomsanlorenzomilano.com
SUMMARY:Bible Study
DESCRIPTION:Online Bible Study via Zoom\nFace-to-Face encounter will be prefered once it is already possible.
URL:https://filcomsanlorenzomilano.com/event/bible-study/2022-07-07/
LOCATION:Oratorio San Domenico Savio\, Via Rovigno\, 19\, Milano\, Milano\, 20125\, Italy
CATEGORIES:Formation
END:VEVENT
BEGIN:VEVENT
DTSTART;TZID=Europe/Rome:20220709T100000
DTEND;TZID=Europe/Rome:20220710T220000
DTSTAMP:20260424T071732
CREATED:20220107T055158Z
LAST-MODIFIED:20220107T055158Z
UID:10014107-1657360800-1657490400@filcomsanlorenzomilano.com
SUMMARY:Summer Sportsfest 2022
DESCRIPTION:Proposed Date \nVenue? \nexecution depends on Covid Pandemic situation at that time
URL:https://filcomsanlorenzomilano.com/event/summer-sportsfest-2022/
LOCATION:MI
CATEGORIES:Youth
END:VEVENT
BEGIN:VEVENT
DTSTART;TZID=Europe/Rome:20220709T160000
DTEND;TZID=Europe/Rome:20220709T183000
DTSTAMP:20260424T071732
CREATED:20220107T081631Z
LAST-MODIFIED:20220703T054922Z
UID:10014119-1657382400-1657391400@filcomsanlorenzomilano.com
SUMMARY:Wedding MACALINDONG-DELEN
DESCRIPTION:Adrian MACALINDONG – Maria Bernadeth DELEN \n– Church to be confirmed later
URL:https://filcomsanlorenzomilano.com/event/wedding-macalindong-delen/
LOCATION:Parrocchia S. Giuseppe dei Morenti\, Via Bernardo Celentano\, 12\, Milano\, Mi\, 20132\, Italy
CATEGORIES:Mass,Matrimony
END:VEVENT
BEGIN:VEVENT
DTSTART;TZID=Europe/Rome:20220709T183000
DTEND;TZID=Europe/Rome:20220709T190000
DTSTAMP:20260424T071732
CREATED:20220627T050730Z
LAST-MODIFIED:20220706T194616Z
UID:10014656-1657391400-1657393200@filcomsanlorenzomilano.com
SUMMARY:2 House Blessings 1-Fei CLARA & 2-Kuya
DESCRIPTION:San Giugliano | to be fetched 4:30 pm @ San Giuseppe Dei Morenti | To be brought home (Turro) by them
URL:https://filcomsanlorenzomilano.com/event/house-blessing-fei-clara/
LOCATION:Fei CLARA\, San Giugliano\, Mi\, Italy
CATEGORIES:Blessing
END:VEVENT
BEGIN:VEVENT
DTSTART;VALUE=DATE:20220710
DTEND;VALUE=DATE:20220712
DTSTAMP:20260424T071732
CREATED:20220108T065712Z
LAST-MODIFIED:20220108T065712Z
UID:10013985-1657418400-1657504799@filcomsanlorenzomilano.com
SUMMARY:15th Sunday in Ordinary Time
DESCRIPTION:
URL:https://filcomsanlorenzomilano.com/event/15th-sunday-in-ordinary-time/
LOCATION:MI
CATEGORIES:Liturgy Calendar
END:VEVENT
BEGIN:VEVENT
DTSTART;TZID=Europe/Rome:20220710T090000
DTEND;TZID=Europe/Rome:20220710T100000
DTSTAMP:20260424T071732
CREATED:20220622T051700Z
LAST-MODIFIED:20220622T051938Z
UID:10014652-1657443600-1657447200@filcomsanlorenzomilano.com
SUMMARY:Mass FCSD
DESCRIPTION:
URL:https://filcomsanlorenzomilano.com/event/mass-fcsd-4/2022-07-10/
LOCATION:Parrocchia S. Maria Ausiliatrice\, Via M. Greppi\, 5\, San Donato Milanese\, Milan\, 20097\, Italy
CATEGORIES:Mass
END:VEVENT
BEGIN:VEVENT
DTSTART;TZID=Europe/Rome:20220710T130000
DTEND;TZID=Europe/Rome:20220710T140000
DTSTAMP:20260424T071732
CREATED:20220228T131028Z
LAST-MODIFIED:20220630T060854Z
UID:10014367-1657458000-1657461600@filcomsanlorenzomilano.com
SUMMARY:Baptism 1-ALONZO\, 2-ALFORTE
DESCRIPTION:Baptism of 1-Natalia Aliya ALONZO\, 2-Chase Kai ALFORTE
URL:https://filcomsanlorenzomilano.com/event/baptism-1-alonzo/
LOCATION:Parrocchia S. Domenico Savio\, Via Rovigno\, 11/A\, Milano\, Milano\, 20125
CATEGORIES:Baptism,Special Mass
END:VEVENT
BEGIN:VEVENT
DTSTART;TZID=Europe/Rome:20220710T150000
DTEND;TZID=Europe/Rome:20220710T160000
DTSTAMP:20260424T071732
CREATED:20220125T200213Z
LAST-MODIFIED:20220802T073243Z
UID:10014281-1657465200-1657468800@filcomsanlorenzomilano.com
SUMMARY:Mass FCGS
DESCRIPTION:Mass Filipino Community of Gesù Salvatore (Milano 3)
URL:https://filcomsanlorenzomilano.com/event/mass-fcgs/2022-07-10/
LOCATION:Parrocchia Gesù Salvatore\, Via Alessandro Manzoni\, 1\, Basiglio\, Milano\, 20080\, Italy
CATEGORIES:Mass
END:VEVENT
BEGIN:VEVENT
DTSTART;TZID=Europe/Rome:20220710T180000
DTEND;TZID=Europe/Rome:20220710T190000
DTSTAMP:20260424T071732
CREATED:20220106T204554Z
LAST-MODIFIED:20220705T183638Z
UID:10014034-1657476000-1657479600@filcomsanlorenzomilano.com
SUMMARY:Mass FCSL
DESCRIPTION:Regular Sunday Mass | to be celebrated by Fr. John Arienti
URL:https://filcomsanlorenzomilano.com/event/mass-fcsl-2022-07-10/
LOCATION:Basilica di San Lorenzo Maggiore\, Corso di Porta Ticinese\, 39\, Milano\, Milano\, 20123\, Italy
CATEGORIES:Mass
END:VEVENT
BEGIN:VEVENT
DTSTART;TZID=Europe/Rome:20220710T180000
DTEND;TZID=Europe/Rome:20220710T190000
DTSTAMP:20260424T071733
CREATED:20220705T183807Z
LAST-MODIFIED:20220705T183807Z
UID:10014258-1657476000-1657479600@filcomsanlorenzomilano.com
SUMMARY:Mass MFC
DESCRIPTION:to be fetched from Milano 3
URL:https://filcomsanlorenzomilano.com/event/mass-mfc-3/
LOCATION:Parrocchia S. Giovanni Evangelista – Madonna di Pompei\, Via Lodovico Pavoni\, 10\, Milano\, Mi\, 20159\, Italy
CATEGORIES:Mass
END:VEVENT
END:VCALENDAR