BEGIN:VCALENDAR
VERSION:2.0
PRODID:-//FilCom San Lorenzo - ECPv6.15.20//NONSGML v1.0//EN
CALSCALE:GREGORIAN
METHOD:PUBLISH
X-WR-CALNAME:FilCom San Lorenzo
X-ORIGINAL-URL:https://filcomsanlorenzomilano.com
X-WR-CALDESC:Events for FilCom San Lorenzo
REFRESH-INTERVAL;VALUE=DURATION:PT1H
X-Robots-Tag:noindex
X-PUBLISHED-TTL:PT1H
BEGIN:VTIMEZONE
TZID:Europe/Rome
BEGIN:DAYLIGHT
TZOFFSETFROM:+0100
TZOFFSETTO:+0200
TZNAME:CEST
DTSTART:20210328T010000
END:DAYLIGHT
BEGIN:STANDARD
TZOFFSETFROM:+0200
TZOFFSETTO:+0100
TZNAME:CET
DTSTART:20211031T010000
END:STANDARD
BEGIN:DAYLIGHT
TZOFFSETFROM:+0100
TZOFFSETTO:+0200
TZNAME:CEST
DTSTART:20220327T010000
END:DAYLIGHT
BEGIN:STANDARD
TZOFFSETFROM:+0200
TZOFFSETTO:+0100
TZNAME:CET
DTSTART:20221030T010000
END:STANDARD
BEGIN:DAYLIGHT
TZOFFSETFROM:+0100
TZOFFSETTO:+0200
TZNAME:CEST
DTSTART:20230326T010000
END:DAYLIGHT
BEGIN:STANDARD
TZOFFSETFROM:+0200
TZOFFSETTO:+0100
TZNAME:CET
DTSTART:20231029T010000
END:STANDARD
END:VTIMEZONE
BEGIN:VEVENT
DTSTART;VALUE=DATE:20220717
DTEND;VALUE=DATE:20220719
DTSTAMP:20260425T142004
CREATED:20220108T065745Z
LAST-MODIFIED:20220108T065745Z
UID:10013986-1658023200-1658109599@filcomsanlorenzomilano.com
SUMMARY:16th Sunday in Ordinary Time
DESCRIPTION:
URL:https://filcomsanlorenzomilano.com/event/16th-sunday-in-ordinary-time/
LOCATION:Milano
CATEGORIES:Liturgy Calendar
END:VEVENT
BEGIN:VEVENT
DTSTART;TZID=Europe/Rome:20220719T123000
DTEND;TZID=Europe/Rome:20220719T143000
DTSTAMP:20260425T142004
CREATED:20220606T131342Z
LAST-MODIFIED:20220606T131724Z
UID:10014633-1658233800-1658241000@filcomsanlorenzomilano.com
SUMMARY:Visita Oculista
DESCRIPTION:Dottore ALESSANDRA TAVOLA \neye Appointment – cataratta \nBe there at least 60 minutes ahead (appointment is at 11:50) with impegnativa SSn\, Documento di identità\, CRS Carte Regioinale dei Servizi\, Codice Fiscale\, ed Eventuali Esenzioni
URL:https://filcomsanlorenzomilano.com/event/visita-oculista/
LOCATION:Poliambulatorio Cardinal Schuster\, Via Nicostrato Castellini\, 7\, Milano\, Mi\, 20158
CATEGORIES:Sick Visitation
END:VEVENT
BEGIN:VEVENT
DTSTART;TZID=Europe/Rome:20220721T213000
DTEND;TZID=Europe/Rome:20220721T230000
DTSTAMP:20260425T142004
CREATED:20220106T215443Z
LAST-MODIFIED:20220106T215443Z
UID:10014083-1658439000-1658444400@filcomsanlorenzomilano.com
SUMMARY:Bible Study
DESCRIPTION:Online Bible Study via Zoom\nFace-to-Face encounter will be prefered once it is already possible.
URL:https://filcomsanlorenzomilano.com/event/bible-study/2022-07-21/
LOCATION:Oratorio San Domenico Savio\, Via Rovigno\, 19\, Milano\, Milano\, 20125\, Italy
CATEGORIES:Formation
END:VEVENT
BEGIN:VEVENT
DTSTART;TZID=Europe/Rome:20220723T130000
DTEND;TZID=Europe/Rome:20220723T143000
DTSTAMP:20260425T142004
CREATED:20220620T113851Z
LAST-MODIFIED:20220620T113851Z
UID:10014643-1658581200-1658586600@filcomsanlorenzomilano.com
SUMMARY:Wedding CHAVEZ-HERNANDEZ
DESCRIPTION:Klein Oliver CHAVEZ – Chiara HERNANDEZ \nDocumentations with Parrocchia Santi Nereo e Achilleo \nTagalog Wedding
URL:https://filcomsanlorenzomilano.com/event/wedding-chavez-hernandez/
LOCATION:Parrocchia Santi MM. Nereo e Achilleo\, Viale Argonne\, 56\, Milano\, Mi\, 20133
CATEGORIES:Matrimony
END:VEVENT
BEGIN:VEVENT
DTSTART;TZID=Europe/Rome:20220723T170000
DTEND;TZID=Europe/Rome:20220723T190000
DTSTAMP:20260425T142004
CREATED:20220716T184937Z
LAST-MODIFIED:20220716T184937Z
UID:10014659-1658595600-1658602800@filcomsanlorenzomilano.com
SUMMARY:Confessions - MFC Youth Camp
DESCRIPTION:
URL:https://filcomsanlorenzomilano.com/event/confessions-mfc-youth-camp/
LOCATION:Parrocchia S. Giovanni Evangelista – Madonna di Pompei\, Via Lodovico Pavoni\, 10\, Milano\, Mi\, 20159\, Italy
CATEGORIES:Confession
END:VEVENT
BEGIN:VEVENT
DTSTART;VALUE=DATE:20220724
DTEND;VALUE=DATE:20220726
DTSTAMP:20260425T142004
CREATED:20220108T065813Z
LAST-MODIFIED:20220108T065813Z
UID:10013987-1658628000-1658714399@filcomsanlorenzomilano.com
SUMMARY:17th Sunday in Ordinary Time
DESCRIPTION:
URL:https://filcomsanlorenzomilano.com/event/17th-sunday-in-ordinary-time/
LOCATION:Milano
CATEGORIES:Liturgy Calendar
END:VEVENT
BEGIN:VEVENT
DTSTART;TZID=Europe/Rome:20220724T110000
DTEND;TZID=Europe/Rome:20220724T120000
DTSTAMP:20260425T142004
CREATED:20220622T051700Z
LAST-MODIFIED:20220713T050214Z
UID:10014653-1658660400-1658664000@filcomsanlorenzomilano.com
SUMMARY:Mass FCSD + Baptism
DESCRIPTION:Baptism 1-Adrian Jude JAURIGUE\, 2-Allonso Jace JAURIGUE \nBRING Baptism Vestments
URL:https://filcomsanlorenzomilano.com/event/mass-fcsd-4-2022-07-24/
LOCATION:Parrocchia S. Maria Ausiliatrice\, Via M. Greppi\, 5\, San Donato Milanese\, Milan\, 20097\, Italy
CATEGORIES:Mass
END:VEVENT
BEGIN:VEVENT
DTSTART;TZID=Europe/Rome:20220724T130000
DTEND;TZID=Europe/Rome:20220724T143000
DTSTAMP:20260425T142004
CREATED:20220429T055632Z
LAST-MODIFIED:20220606T133810Z
UID:10014598-1658667600-1658673000@filcomsanlorenzomilano.com
SUMMARY:Baptism 1-BERISO
DESCRIPTION:Baptism 1-Leonard Nil BERISO
URL:https://filcomsanlorenzomilano.com/event/baptism-1-confirmed-3/
LOCATION:Parrocchia S. Domenico Savio\, Via Rovigno\, 11/A\, Milano\, Milano\, 20125
CATEGORIES:Baptism,Mass
END:VEVENT
BEGIN:VEVENT
DTSTART;TZID=Europe/Rome:20220724T150000
DTEND;TZID=Europe/Rome:20220724T160000
DTSTAMP:20260425T142004
CREATED:20220125T200213Z
LAST-MODIFIED:20220802T073243Z
UID:10014283-1658674800-1658678400@filcomsanlorenzomilano.com
SUMMARY:Mass FCGS
DESCRIPTION:Mass Filipino Community of Gesù Salvatore (Milano 3)
URL:https://filcomsanlorenzomilano.com/event/mass-fcgs/2022-07-24/
LOCATION:Parrocchia Gesù Salvatore\, Via Alessandro Manzoni\, 1\, Basiglio\, Milano\, 20080\, Italy
CATEGORIES:Mass
END:VEVENT
BEGIN:VEVENT
DTSTART;TZID=Europe/Rome:20220724T160000
DTEND;TZID=Europe/Rome:20220724T170000
DTSTAMP:20260425T142004
CREATED:20220106T204554Z
LAST-MODIFIED:20230111T214233Z
UID:10014016-1658678400-1658682000@filcomsanlorenzomilano.com
SUMMARY:Mass FCSL
DESCRIPTION:Regular Sunday Mass
URL:https://filcomsanlorenzomilano.com/event/mass-fcsl/2022-07-24/
LOCATION:Basilica di San Lorenzo Maggiore\, Corso di Porta Ticinese\, 39\, Milano\, Milano\, 20123\, Italy
CATEGORIES:Mass
END:VEVENT
END:VCALENDAR