BEGIN:VCALENDAR
VERSION:2.0
PRODID:-//FilCom San Lorenzo - ECPv6.15.20//NONSGML v1.0//EN
CALSCALE:GREGORIAN
METHOD:PUBLISH
X-ORIGINAL-URL:https://filcomsanlorenzomilano.com
X-WR-CALDESC:Events for FilCom San Lorenzo
REFRESH-INTERVAL;VALUE=DURATION:PT1H
X-Robots-Tag:noindex
X-PUBLISHED-TTL:PT1H
BEGIN:VTIMEZONE
TZID:Europe/Rome
BEGIN:DAYLIGHT
TZOFFSETFROM:+0100
TZOFFSETTO:+0200
TZNAME:CEST
DTSTART:20220327T010000
END:DAYLIGHT
BEGIN:STANDARD
TZOFFSETFROM:+0200
TZOFFSETTO:+0100
TZNAME:CET
DTSTART:20221030T010000
END:STANDARD
BEGIN:DAYLIGHT
TZOFFSETFROM:+0100
TZOFFSETTO:+0200
TZNAME:CEST
DTSTART:20230326T010000
END:DAYLIGHT
BEGIN:STANDARD
TZOFFSETFROM:+0200
TZOFFSETTO:+0100
TZNAME:CET
DTSTART:20231029T010000
END:STANDARD
BEGIN:DAYLIGHT
TZOFFSETFROM:+0100
TZOFFSETTO:+0200
TZNAME:CEST
DTSTART:20240331T010000
END:DAYLIGHT
BEGIN:STANDARD
TZOFFSETFROM:+0200
TZOFFSETTO:+0100
TZNAME:CET
DTSTART:20241027T010000
END:STANDARD
END:VTIMEZONE
BEGIN:VEVENT
DTSTART;VALUE=DATE:20230801
DTEND;VALUE=DATE:20230807
DTSTAMP:20260419T141052
CREATED:20220126T155428Z
LAST-MODIFIED:20230103T103459Z
UID:10014295-1690848000-1691366399@filcomsanlorenzomilano.com
SUMMARY:World Youth Day - Lisbon\, Portugal
DESCRIPTION:World Youth Day was originally scheduled for 2022\, but was postponed by Pope Francis by 1 year because of the COVID19 Pandemic
URL:https://filcomsanlorenzomilano.com/event/world-youth-day-lisbon-portugal/
LOCATION:MI
CATEGORIES:Formation,Youth
END:VEVENT
BEGIN:VEVENT
DTSTART;TZID=Europe/Rome:20230801T100000
DTEND;TZID=Europe/Rome:20230801T120000
DTSTAMP:20260419T141052
CREATED:20230731T143505Z
LAST-MODIFIED:20230731T143505Z
UID:10015047-1690884000-1690891200@filcomsanlorenzomilano.com
SUMMARY:Trascrizione Matrimonio Bayang-Martinez
DESCRIPTION:
URL:https://filcomsanlorenzomilano.com/event/trascrizione-matrimonio-bayang-martinez/
LOCATION:Comune di Milano\, Via Larga\, 12\, Milano\, Mi\, 20122\, Italy
CATEGORIES:Trascrizione Matrimonio Concordatario
END:VEVENT
BEGIN:VEVENT
DTSTART;TZID=Europe/Rome:20230801T160000
DTEND;TZID=Europe/Rome:20230801T163000
DTSTAMP:20260419T141052
CREATED:20230731T143152Z
LAST-MODIFIED:20230731T143152Z
UID:10015046-1690905600-1690907400@filcomsanlorenzomilano.com
SUMMARY:Atienza-Lleva Testimonies
DESCRIPTION:
URL:https://filcomsanlorenzomilano.com/event/atienza-lleva-testimonies/
LOCATION:Parrocchia S. Domenico Savio\, Via Rovigno\, 11/A\, Milano\, Milano\, 20125
CATEGORIES:Interview
END:VEVENT
BEGIN:VEVENT
DTSTART;TZID=Europe/Rome:20230802T110000
DTEND;TZID=Europe/Rome:20230802T120000
DTSTAMP:20260419T141052
CREATED:20230731T144404Z
LAST-MODIFIED:20230801T122402Z
UID:10015049-1690974000-1690977600@filcomsanlorenzomilano.com
SUMMARY:Messa - Funerale
DESCRIPTION:+Father of Arlene BATOON-MARASIGAN
URL:https://filcomsanlorenzomilano.com/event/messa-funerale/
LOCATION:Santa Maria Rossa in Crescenzago\, Via Domenico Berra\, 11\, Milano\, Milano\, 20132\, Italy
CATEGORIES:Funeral
END:VEVENT
BEGIN:VEVENT
DTSTART;TZID=Europe/Rome:20230803T100000
DTEND;TZID=Europe/Rome:20230803T120000
DTSTAMP:20260419T141052
CREATED:20230801T201904Z
LAST-MODIFIED:20230801T201904Z
UID:10015053-1691056800-1691064000@filcomsanlorenzomilano.com
SUMMARY:Submit Mod XIV Atienza-Lleva
DESCRIPTION:d Gianluigi Panzeri
URL:https://filcomsanlorenzomilano.com/event/submit-mod-xiv-atienza-lleva/
LOCATION:Parrocchia Santi MM. Nereo e Achilleo\, Viale Argonne\, 56\, Milano\, Mi\, 20133
CATEGORIES:Modulo XIV
END:VEVENT
BEGIN:VEVENT
DTSTART;TZID=Europe/Rome:20230803T150000
DTEND;TZID=Europe/Rome:20230803T160000
DTSTAMP:20260419T141052
CREATED:20230801T133750Z
LAST-MODIFIED:20230801T133750Z
UID:10015051-1691074800-1691078400@filcomsanlorenzomilano.com
SUMMARY:Office Blessing
DESCRIPTION:Aladiah Broker | Insurance Investments \nKirby dela Cruz | Loida Requid | Giulia
URL:https://filcomsanlorenzomilano.com/event/office-blessing-2/
LOCATION:Aladiah Broker Milano\, Via Gustavo Fara 25\, Milano\, Milano\, 20124\, Italy
CATEGORIES:Blessing
END:VEVENT
BEGIN:VEVENT
DTSTART;TZID=Europe/Rome:20230806T100000
DTEND;TZID=Europe/Rome:20230806T103000
DTSTAMP:20260419T141052
CREATED:20230731T143821Z
LAST-MODIFIED:20230731T143821Z
UID:10015048-1691316000-1691317800@filcomsanlorenzomilano.com
SUMMARY:Interview Lansangan-Benavidez
DESCRIPTION:Jerico LANSANGAN – Maria Christine BENAVIDEZ
URL:https://filcomsanlorenzomilano.com/event/interview-lansangan-benavidez/
LOCATION:Parrocchia S. Domenico Savio\, Via Rovigno\, 11/A\, Milano\, Milano\, 20125
CATEGORIES:Interview
END:VEVENT
BEGIN:VEVENT
DTSTART;TZID=Europe/Rome:20230806T110000
DTEND;TZID=Europe/Rome:20230806T123000
DTSTAMP:20260419T141052
CREATED:20230529T184930Z
LAST-MODIFIED:20230529T184930Z
UID:10014994-1691319600-1691325000@filcomsanlorenzomilano.com
SUMMARY:Binyag 1-Tyler Jacob CASTILLO
DESCRIPTION:
URL:https://filcomsanlorenzomilano.com/event/binyag-1-tyler-jacob-castillo/
LOCATION:Parrocchia S. Domenico Savio\, Via Rovigno\, 11/A\, Milano\, Milano\, 20125
CATEGORIES:Baptism
END:VEVENT
BEGIN:VEVENT
DTSTART;TZID=Europe/Rome:20230806T130000
DTEND;TZID=Europe/Rome:20230806T140000
DTSTAMP:20260419T141052
CREATED:20230111T135919Z
LAST-MODIFIED:20230609T153239Z
UID:10014452-1691326800-1691330400@filcomsanlorenzomilano.com
SUMMARY:Mass FCGS
DESCRIPTION:Regular Sunday Mass for the Filipino Community of Gesù Salvatore in Milano 3\, Basiglio
URL:https://filcomsanlorenzomilano.com/event/mass-fcgs-2/2023-08-06/
LOCATION:Parrocchia Gesù Salvatore\, Via Alessandro Manzoni\, 1\, Basiglio\, Milano\, 20080\, Italy
CATEGORIES:Mass
END:VEVENT
BEGIN:VEVENT
DTSTART;TZID=Europe/Rome:20230806T160000
DTEND;TZID=Europe/Rome:20230806T170000
DTSTAMP:20260419T141052
CREATED:20220413T184831Z
LAST-MODIFIED:20250224T221117Z
UID:10014574-1691337600-1691341200@filcomsanlorenzomilano.com
SUMMARY:Mass FCSL
DESCRIPTION:Regular Sunday Mass
URL:https://filcomsanlorenzomilano.com/event/mass-fcsl-6/2023-08-06/
LOCATION:Basilica di San Lorenzo Maggiore\, Corso di Porta Ticinese\, 39\, Milano\, Milano\, 20123\, Italy
CATEGORIES:Mass
ATTACH;FMTTYPE=image/webp:https://filcomsanlorenzomilano.com/wp-content/uploads/2022/04/FCSL-Logo2.webp
END:VEVENT
END:VCALENDAR