BEGIN:VCALENDAR
VERSION:2.0
PRODID:-//FilCom San Lorenzo - ECPv6.15.20//NONSGML v1.0//EN
CALSCALE:GREGORIAN
METHOD:PUBLISH
X-ORIGINAL-URL:https://filcomsanlorenzomilano.com
X-WR-CALDESC:Events for FilCom San Lorenzo
REFRESH-INTERVAL;VALUE=DURATION:PT1H
X-Robots-Tag:noindex
X-PUBLISHED-TTL:PT1H
BEGIN:VTIMEZONE
TZID:Europe/Rome
BEGIN:DAYLIGHT
TZOFFSETFROM:+0100
TZOFFSETTO:+0200
TZNAME:CEST
DTSTART:20220327T010000
END:DAYLIGHT
BEGIN:STANDARD
TZOFFSETFROM:+0200
TZOFFSETTO:+0100
TZNAME:CET
DTSTART:20221030T010000
END:STANDARD
BEGIN:DAYLIGHT
TZOFFSETFROM:+0100
TZOFFSETTO:+0200
TZNAME:CEST
DTSTART:20230326T010000
END:DAYLIGHT
BEGIN:STANDARD
TZOFFSETFROM:+0200
TZOFFSETTO:+0100
TZNAME:CET
DTSTART:20231029T010000
END:STANDARD
BEGIN:DAYLIGHT
TZOFFSETFROM:+0100
TZOFFSETTO:+0200
TZNAME:CEST
DTSTART:20240331T010000
END:DAYLIGHT
BEGIN:STANDARD
TZOFFSETFROM:+0200
TZOFFSETTO:+0100
TZNAME:CET
DTSTART:20241027T010000
END:STANDARD
END:VTIMEZONE
BEGIN:VEVENT
DTSTART;TZID=Europe/Rome:20230902T090000
DTEND;TZID=Europe/Rome:20230902T103000
DTSTAMP:20260422T155358
CREATED:20230829T135333Z
LAST-MODIFIED:20230829T135633Z
UID:10015231-1693645200-1693650600@filcomsanlorenzomilano.com
SUMMARY:Testimoni + Intervista Canonica ICARO-MELENDRES
DESCRIPTION:Jake ICARO – Jereme Alyssa MELENDRES
URL:https://filcomsanlorenzomilano.com/event/testimoni-intervista-canonica-icaro-melendres/
LOCATION:Parrocchia S. Domenico Savio\, Via Rovigno\, 11/A\, Milano\, Milano\, 20125
CATEGORIES:Interview
END:VEVENT
BEGIN:VEVENT
DTSTART;TZID=Europe/Rome:20230902T150000
DTEND;TZID=Europe/Rome:20230902T200000
DTSTAMP:20260422T155358
CREATED:20230829T135529Z
LAST-MODIFIED:20230829T135529Z
UID:10015232-1693666800-1693684800@filcomsanlorenzomilano.com
SUMMARY:Confession + Mass (MFC Youth Camp)
DESCRIPTION:c/o Bro. Joel Atienza
URL:https://filcomsanlorenzomilano.com/event/confession-mass-mfc-youth-camp/
LOCATION:Parrocchia S. Giovanni Evangelista – Madonna di Pompei\, Via Lodovico Pavoni\, 10\, Milano\, Mi\, 20159\, Italy
CATEGORIES:Confession,Mass
END:VEVENT
BEGIN:VEVENT
DTSTART;TZID=Europe/Rome:20230903T100000
DTEND;TZID=Europe/Rome:20230903T113000
DTSTAMP:20260422T155358
CREATED:20230822T085727Z
LAST-MODIFIED:20250707T122126Z
UID:10015215-1693735200-1693740600@filcomsanlorenzomilano.com
SUMMARY:Mass Caravaggio
DESCRIPTION:FCSL Monthly Pilgrimage at Caravaggio | 9:30 am – Rosary | 10:00 am – Holy Mass in Tagalog
URL:https://filcomsanlorenzomilano.com/event/mass-caravaggio/2023-09-03/
LOCATION:Santuario di Santa Maria del Fonte – Caravaggio\, Viale Giovanni XXIII\, Caravaggio\, BG\, 24043\, Italy
CATEGORIES:Mass
ATTACH;FMTTYPE=image/webp:https://filcomsanlorenzomilano.com/wp-content/uploads/2023/08/Caravaggio-Shrine.webp
END:VEVENT
BEGIN:VEVENT
DTSTART;TZID=Europe/Rome:20230903T130000
DTEND;TZID=Europe/Rome:20230903T140000
DTSTAMP:20260422T155358
CREATED:20230724T112150Z
LAST-MODIFIED:20240903T194440Z
UID:10014456-1693746000-1693749600@filcomsanlorenzomilano.com
SUMMARY:Mass FCGS
DESCRIPTION:Regular Sunday Mass for the Filipino Community of Gesù Salvatore in Milano 3\, Basiglio \n 
URL:https://filcomsanlorenzomilano.com/event/mass-fcgs-2-3/2023-09-03/
LOCATION:Parrocchia Gesù Salvatore\, Via Alessandro Manzoni\, 1\, Basiglio\, Milano\, 20080\, Italy
CATEGORIES:Mass
END:VEVENT
BEGIN:VEVENT
DTSTART;TZID=Europe/Rome:20230903T160000
DTEND;TZID=Europe/Rome:20230903T170000
DTSTAMP:20260422T155358
CREATED:20220413T184831Z
LAST-MODIFIED:20250224T221117Z
UID:10015113-1693756800-1693760400@filcomsanlorenzomilano.com
SUMMARY:Mass FCSL
DESCRIPTION:Regular Sunday Mass
URL:https://filcomsanlorenzomilano.com/event/mass-fcsl-6/2023-09-03/
LOCATION:Basilica di San Lorenzo Maggiore\, Corso di Porta Ticinese\, 39\, Milano\, Milano\, 20123\, Italy
CATEGORIES:Mass
ATTACH;FMTTYPE=image/webp:https://filcomsanlorenzomilano.com/wp-content/uploads/2022/04/FCSL-Logo2.webp
END:VEVENT
END:VCALENDAR