BEGIN:VCALENDAR
VERSION:2.0
PRODID:-//FilCom San Lorenzo - ECPv6.15.20//NONSGML v1.0//EN
CALSCALE:GREGORIAN
METHOD:PUBLISH
X-ORIGINAL-URL:https://filcomsanlorenzomilano.com
X-WR-CALDESC:Events for FilCom San Lorenzo
REFRESH-INTERVAL;VALUE=DURATION:PT1H
X-Robots-Tag:noindex
X-PUBLISHED-TTL:PT1H
BEGIN:VTIMEZONE
TZID:Europe/Rome
BEGIN:DAYLIGHT
TZOFFSETFROM:+0100
TZOFFSETTO:+0200
TZNAME:CEST
DTSTART:20250330T010000
END:DAYLIGHT
BEGIN:STANDARD
TZOFFSETFROM:+0200
TZOFFSETTO:+0100
TZNAME:CET
DTSTART:20251026T010000
END:STANDARD
BEGIN:DAYLIGHT
TZOFFSETFROM:+0100
TZOFFSETTO:+0200
TZNAME:CEST
DTSTART:20260329T010000
END:DAYLIGHT
BEGIN:STANDARD
TZOFFSETFROM:+0200
TZOFFSETTO:+0100
TZNAME:CET
DTSTART:20261025T010000
END:STANDARD
BEGIN:DAYLIGHT
TZOFFSETFROM:+0100
TZOFFSETTO:+0200
TZNAME:CEST
DTSTART:20270328T010000
END:DAYLIGHT
BEGIN:STANDARD
TZOFFSETFROM:+0200
TZOFFSETTO:+0100
TZNAME:CET
DTSTART:20271031T010000
END:STANDARD
END:VTIMEZONE
BEGIN:VEVENT
DTSTART;TZID=Europe/Rome:20260310T200000
DTEND;TZID=Europe/Rome:20260310T220000
DTSTAMP:20260421T130728
CREATED:20260219T104214Z
LAST-MODIFIED:20260311T195224Z
UID:10020111-1773172800-1773180000@filcomsanlorenzomilano.com
SUMMARY:Wedding Seminar - Confirmed 5 Couples
DESCRIPTION:1) Edmar ESTA – Chloie JAURIGUE \n2) Justine Tyrone VILLANUEVA – Shaira Mae CARIñO \n3) Ryan Christian BRUCAL – Ritzen Mae JAURIGUE \n4) Franz Steffen DE CHAVEZ – Crystal ALVAREZ \n5) Christian Mark OñA – Chiara Jayne BITANG
URL:https://filcomsanlorenzomilano.com/event/wedding-seminar/2026-03-10/
LOCATION:Parrocchia S. Domenico Savio\, Via Rovigno\, 11/A\, Milano\, Milano\, 20125
CATEGORIES:Seminar
ATTACH;FMTTYPE=image/webp:https://filcomsanlorenzomilano.com/wp-content/uploads/2024/11/Marriage-Seminar.webp
END:VEVENT
BEGIN:VEVENT
DTSTART;TZID=Europe/Rome:20260312T193000
DTEND;TZID=Europe/Rome:20260312T210000
DTSTAMP:20260421T130728
CREATED:20251006T071916Z
LAST-MODIFIED:20251006T072011Z
UID:10019834-1773343800-1773349200@filcomsanlorenzomilano.com
SUMMARY:Bible Study
DESCRIPTION:Online – Via Zoom
URL:https://filcomsanlorenzomilano.com/event/bible-study-3/2026-03-12/
LOCATION:Parrocchia S. Domenico Savio\, Via Rovigno\, 11/A\, Milano\, Milano\, 20125
CATEGORIES:Formation
ATTACH;FMTTYPE=image/webp:https://filcomsanlorenzomilano.com/wp-content/uploads/2025/03/Bible-Study.webp
END:VEVENT
BEGIN:VEVENT
DTSTART;TZID=Europe/Rome:20260314T093000
DTEND;TZID=Europe/Rome:20260314T100000
DTSTAMP:20260421T130728
CREATED:20250905T192239Z
LAST-MODIFIED:20260201T195256Z
UID:10019685-1773480600-1773482400@filcomsanlorenzomilano.com
SUMMARY:Baptism 1-Ethan Rae AFRICA
DESCRIPTION:1 – Ethan Rae AFRICA
URL:https://filcomsanlorenzomilano.com/event/baptism-1-confirmed-73/
LOCATION:Parrocchia S. Domenico Savio\, Via Rovigno\, 11/A\, Milano\, Milano\, 20125
CATEGORIES:Baptism
ATTACH;FMTTYPE=image/webp:https://filcomsanlorenzomilano.com/wp-content/uploads/2024/11/Baptism-1.webp
END:VEVENT
BEGIN:VEVENT
DTSTART;TZID=Europe/Rome:20260314T120000
DTEND;TZID=Europe/Rome:20260314T140000
DTSTAMP:20260421T130728
CREATED:20251202T150149Z
LAST-MODIFIED:20251202T152344Z
UID:10020036-1773489600-1773496800@filcomsanlorenzomilano.com
SUMMARY:Wedding BAYUNGAN-ATIENZA
DESCRIPTION:Wilfredo BAYUNGAN – Jocelyn ATIENZA \nProblem re: documentation | ACTUAL birthday does not match with REGISTERED birthday. | It turns out that she was baptized BEFORE  she was born. Case of late birth registration.
URL:https://filcomsanlorenzomilano.com/event/wedding-bayungan-atienza/
LOCATION:Parrocchia dell’Annunciazione\, Via Vittorio Scialoia\, Milano\, Mi\, 20161\, Italy
CATEGORIES:Matrimony
ATTACH;FMTTYPE=image/webp:https://filcomsanlorenzomilano.com/wp-content/uploads/2024/12/Wedding.webp
END:VEVENT
BEGIN:VEVENT
DTSTART;TZID=Europe/Rome:20260314T150000
DTEND;TZID=Europe/Rome:20260314T170000
DTSTAMP:20260421T130728
CREATED:20251217T092437Z
LAST-MODIFIED:20251217T092448Z
UID:10020055-1773500400-1773507600@filcomsanlorenzomilano.com
SUMMARY:Wedding DE CHAVEZ-BUQUID
DESCRIPTION:Earl Chad DE CHAVEZ – Ayesha Mavelle BUQUID
URL:https://filcomsanlorenzomilano.com/event/wedding-de-chavez-buquid/
LOCATION:Parrocchia S. Domenico Savio\, Via Rovigno\, 11/A\, Milano\, Milano\, 20125
CATEGORIES:Matrimony
ATTACH;FMTTYPE=image/webp:https://filcomsanlorenzomilano.com/wp-content/uploads/2024/12/Wedding.webp
END:VEVENT
BEGIN:VEVENT
DTSTART;TZID=Europe/Rome:20260314T160000
DTEND;TZID=Europe/Rome:20260314T200000
DTSTAMP:20260421T130728
CREATED:20260218T205256Z
LAST-MODIFIED:20260218T205327Z
UID:10020107-1773504000-1773518400@filcomsanlorenzomilano.com
SUMMARY:Pabasa ng Pasyong Mahal
DESCRIPTION:Sponsor: Jun-Lorena DE CASTRO | MFC \nCitofono: | Piano: 10
URL:https://filcomsanlorenzomilano.com/event/pabasa-ng-pasyong-mahal-2-4/
LOCATION:Jun-Lorena De Castro\, Via Giuseppe Mazzini\, 52C\, Garbagnate Milanese\, MI\, 20024\, Italy
CATEGORIES:Worship
ATTACH;FMTTYPE=image/webp:https://filcomsanlorenzomilano.com/wp-content/uploads/2026/02/Pabasa-Pasiong-Mahal.webp
END:VEVENT
BEGIN:VEVENT
DTSTART;TZID=Europe/Rome:20260314T173000
DTEND;TZID=Europe/Rome:20260314T200000
DTSTAMP:20260421T130728
CREATED:20260309T095541Z
LAST-MODIFIED:20260311T200600Z
UID:10020131-1773509400-1773518400@filcomsanlorenzomilano.com
SUMMARY:House Blessing - Mabel Falcotelo
DESCRIPTION:Zona Rho (MI) \nto be fetched by Edgar Malabuyoc after 5:30pm
URL:https://filcomsanlorenzomilano.com/event/house-blessing-mabel-falcotelo/
LOCATION:Mabel Falcotelo\, Via Alessandro Volta 8\, Rho\, MI\, 20017\, Italy
CATEGORIES:Blessing
ATTACH;FMTTYPE=image/webp:https://filcomsanlorenzomilano.com/wp-content/uploads/2025/02/House-Blessing.webp
END:VEVENT
BEGIN:VEVENT
DTSTART;TZID=Europe/Rome:20260314T180000
DTEND;TZID=Europe/Rome:20260314T200000
DTSTAMP:20260421T130728
CREATED:20260218T200730Z
LAST-MODIFIED:20260218T211949Z
UID:10020103-1773511200-1773518400@filcomsanlorenzomilano.com
SUMMARY:Lenten Recollection & Kumpisalang Bayan
DESCRIPTION:Host: Fr Ulysses Reyes | Speaker – Bro. Michael Vincent Evernas
URL:https://filcomsanlorenzomilano.com/event/lenten-recollection-kumpisalang-bayan/
LOCATION:Parrocchia Santo Stefano\, Piazza Santo Stefano\, 12\, Milano\, Miulano\, 20122
CATEGORIES:Confession,Retreats & Recollection
ATTACH;FMTTYPE=image/webp:https://filcomsanlorenzomilano.com/wp-content/uploads/2025/02/Kumpisalang-Bayan-1.webp
END:VEVENT
BEGIN:VEVENT
DTSTART;VALUE=DATE:20260315
DTEND;VALUE=DATE:20260316
DTSTAMP:20260421T130728
CREATED:20251017T165150Z
LAST-MODIFIED:20251017T165150Z
UID:10019921-1773532800-1773619199@filcomsanlorenzomilano.com
SUMMARY:4th Sunday of Lent
DESCRIPTION:
URL:https://filcomsanlorenzomilano.com/event/4th-sunday-of-lent-5/
LOCATION:MI
CATEGORIES:Liturgy Calendar
END:VEVENT
BEGIN:VEVENT
DTSTART;TZID=Europe/Rome:20260315T083000
DTEND;TZID=Europe/Rome:20260315T090000
DTSTAMP:20260421T130728
CREATED:20260202T193847Z
LAST-MODIFIED:20260202T193948Z
UID:10020085-1773563400-1773565200@filcomsanlorenzomilano.com
SUMMARY:Baptism 1-John Lorenz Primo UMALI
DESCRIPTION:1 – John Lorenz Primo UMALI
URL:https://filcomsanlorenzomilano.com/event/baptism-1-john-lawrence-primo-umali/
LOCATION:Parrocchia S. Domenico Savio\, Via Rovigno\, 11/A\, Milano\, Milano\, 20125
CATEGORIES:Baptism
ATTACH;FMTTYPE=image/webp:https://filcomsanlorenzomilano.com/wp-content/uploads/2024/11/Baptism-1.webp
END:VEVENT
BEGIN:VEVENT
DTSTART;TZID=Europe/Rome:20260315T113000
DTEND;TZID=Europe/Rome:20260315T123000
DTSTAMP:20260421T130728
CREATED:20250819T100930Z
LAST-MODIFIED:20260309T095305Z
UID:10019628-1773574200-1773577800@filcomsanlorenzomilano.com
SUMMARY:Baptism 1-Jeana Maine SALUNGA
DESCRIPTION:1 – Jeana Maine SALUNGA
URL:https://filcomsanlorenzomilano.com/event/baptism-1-confirmed-82/
LOCATION:Parrocchia S. Domenico Savio\, Via Rovigno\, 11/A\, Milano\, Milano\, 20125
CATEGORIES:Baptism
ATTACH;FMTTYPE=image/webp:https://filcomsanlorenzomilano.com/wp-content/uploads/2024/11/Baptism-1.webp
END:VEVENT
BEGIN:VEVENT
DTSTART;TZID=Europe/Rome:20260315T130000
DTEND;TZID=Europe/Rome:20260315T140000
DTSTAMP:20260421T130728
CREATED:20250626T125025Z
LAST-MODIFIED:20250626T125150Z
UID:10017463-1773579600-1773583200@filcomsanlorenzomilano.com
SUMMARY:Mass FCGS
DESCRIPTION:Regular Sunday Mass at the Filipino Community of Gesù Salvatore
URL:https://filcomsanlorenzomilano.com/event/mass-fcgs-6/2026-03-15/
LOCATION:Parrocchia Gesù Salvatore\, Via Alessandro Manzoni\, 1\, Basiglio\, Milano\, 20080\, Italy
CATEGORIES:Mass
ATTACH;FMTTYPE=image/webp:https://filcomsanlorenzomilano.com/wp-content/uploads/2024/08/FCGS-Logo2.webp
END:VEVENT
BEGIN:VEVENT
DTSTART;TZID=Europe/Rome:20260315T160000
DTEND;TZID=Europe/Rome:20260315T170000
DTSTAMP:20260421T130728
CREATED:20250806T075634Z
LAST-MODIFIED:20250806T075635Z
UID:10019584-1773590400-1773594000@filcomsanlorenzomilano.com
SUMMARY:Mass FCSL
DESCRIPTION:Regular Sunday Mass
URL:https://filcomsanlorenzomilano.com/event/mass-fcsl-6-20/2026-03-15/
LOCATION:Basilica di San Lorenzo Maggiore\, Corso di Porta Ticinese\, 39\, Milano\, Milano\, 20123\, Italy
CATEGORIES:Mass
ATTACH;FMTTYPE=image/webp:https://filcomsanlorenzomilano.com/wp-content/uploads/2022/04/FCSL-Logo2.webp
END:VEVENT
END:VCALENDAR