BEGIN:VCALENDAR
VERSION:2.0
PRODID:-//FilCom San Lorenzo - ECPv6.15.20//NONSGML v1.0//EN
CALSCALE:GREGORIAN
METHOD:PUBLISH
X-ORIGINAL-URL:https://filcomsanlorenzomilano.com
X-WR-CALDESC:Events for FilCom San Lorenzo
REFRESH-INTERVAL;VALUE=DURATION:PT1H
X-Robots-Tag:noindex
X-PUBLISHED-TTL:PT1H
BEGIN:VTIMEZONE
TZID:Europe/Rome
BEGIN:DAYLIGHT
TZOFFSETFROM:+0100
TZOFFSETTO:+0200
TZNAME:CEST
DTSTART:20230326T010000
END:DAYLIGHT
BEGIN:STANDARD
TZOFFSETFROM:+0200
TZOFFSETTO:+0100
TZNAME:CET
DTSTART:20231029T010000
END:STANDARD
BEGIN:DAYLIGHT
TZOFFSETFROM:+0100
TZOFFSETTO:+0200
TZNAME:CEST
DTSTART:20240331T010000
END:DAYLIGHT
BEGIN:STANDARD
TZOFFSETFROM:+0200
TZOFFSETTO:+0100
TZNAME:CET
DTSTART:20241027T010000
END:STANDARD
BEGIN:DAYLIGHT
TZOFFSETFROM:+0100
TZOFFSETTO:+0200
TZNAME:CEST
DTSTART:20250330T010000
END:DAYLIGHT
BEGIN:STANDARD
TZOFFSETFROM:+0200
TZOFFSETTO:+0100
TZNAME:CET
DTSTART:20251026T010000
END:STANDARD
END:VTIMEZONE
BEGIN:VEVENT
DTSTART;TZID=Europe/Rome:20240726T100000
DTEND;TZID=Europe/Rome:20240726T110000
DTSTAMP:20260420T234905
CREATED:20240620T103256Z
LAST-MODIFIED:20240620T103256Z
UID:10016370-1721988000-1721991600@filcomsanlorenzomilano.com
SUMMARY:Mass - 1 yr Death Anniversary
DESCRIPTION:Famiglia MUCERO \nc/o Bro. Leonardo Cabrera
URL:https://filcomsanlorenzomilano.com/event/mass-1-yr-death-anniversary/
LOCATION:Mucero Family\, Via Antonio Mambretti 5\, Milano\, MI\, 20157\, Italy
CATEGORIES:Death Anniversary,Mass
ATTACH;FMTTYPE=image/webp:https://filcomsanlorenzomilano.com/wp-content/uploads/2021/12/Funeral.webp
END:VEVENT
END:VCALENDAR